BEGIN:VCALENDAR
VERSION:2.0
PRODID:-//WOW Events - ECPv6.15.20//NONSGML v1.0//EN
CALSCALE:GREGORIAN
METHOD:PUBLISH
X-WR-CALNAME:WOW Events
X-ORIGINAL-URL:https://welcomingottawaweek.ca
X-WR-CALDESC:Events for WOW Events
REFRESH-INTERVAL;VALUE=DURATION:PT1H
X-Robots-Tag:noindex
X-PUBLISHED-TTL:PT1H
BEGIN:VTIMEZONE
TZID:America/Toronto
BEGIN:DAYLIGHT
TZOFFSETFROM:-0500
TZOFFSETTO:-0400
TZNAME:EDT
DTSTART:20210314T070000
END:DAYLIGHT
BEGIN:STANDARD
TZOFFSETFROM:-0400
TZOFFSETTO:-0500
TZNAME:EST
DTSTART:20211107T060000
END:STANDARD
BEGIN:DAYLIGHT
TZOFFSETFROM:-0500
TZOFFSETTO:-0400
TZNAME:EDT
DTSTART:20220313T070000
END:DAYLIGHT
BEGIN:STANDARD
TZOFFSETFROM:-0400
TZOFFSETTO:-0500
TZNAME:EST
DTSTART:20221106T060000
END:STANDARD
BEGIN:DAYLIGHT
TZOFFSETFROM:-0500
TZOFFSETTO:-0400
TZNAME:EDT
DTSTART:20230312T070000
END:DAYLIGHT
BEGIN:STANDARD
TZOFFSETFROM:-0400
TZOFFSETTO:-0500
TZNAME:EST
DTSTART:20231105T060000
END:STANDARD
END:VTIMEZONE
BEGIN:VEVENT
DTSTART;TZID=America/Toronto:20220620T093000
DTEND;TZID=America/Toronto:20220620T113000
DTSTAMP:20260421T080901
CREATED:20220506T185908Z
LAST-MODIFIED:20220614T111237Z
UID:3991-1655717400-1655724600@welcomingottawaweek.ca
SUMMARY:2022 Welcoming Ottawa Week Launch Event
DESCRIPTION:The Ottawa Local Immigration Partnership (OLIP) will host an event to kick-start 2022 Welcoming Ottawa Week activities. This invitation-only event is for OLIP partners\, WOW event hosts\, Welcoming Ambassador Award recipients\, civil society leaders\, faith leaders and business and government executives.
URL:https://welcomingottawaweek.ca/event/2022-welcoming-ottawa-week-launch-event/
LOCATION:Fred Barrett Arena\, 3280 Leitrim Rd\,\, Gloucester
CATEGORIES:Formal Events
ATTACH;FMTTYPE=image/png:https://welcomingottawaweek.ca/wp-content/uploads/2019/06/OLIP-Logo_official-darker-version.png
END:VEVENT
BEGIN:VEVENT
DTSTART;TZID=America/Toronto:20220620T130000
DTEND;TZID=America/Toronto:20220620T130000
DTSTAMP:20260421T080901
CREATED:20220613T003818Z
LAST-MODIFIED:20220615T150107Z
UID:4627-1655730000-1655730000@welcomingottawaweek.ca
SUMMARY:Come Meet the City!
DESCRIPTION:Are you a newcomer looking for a way to learn more about the City of Ottawa? Do you need some career guidance? Looking to speak with someone in a specific field\, or hoping to explore the careers we have to offer? Would you like to learn more about free programs and services that are available in your area? \nJoin us on the main floor at City Hall to learn more about various services\, careers and how to apply to our open opportunities. We have 10 departments who will be set up in booths ready to answer your questions! \n  \n 
URL:https://welcomingottawaweek.ca/event/come-meet-the-city/
LOCATION:Jean Pigott Place @City Hall
CATEGORIES:Community Engagement
ATTACH;FMTTYPE=image/jpeg:https://welcomingottawaweek.ca/wp-content/uploads/2019/06/city-of-ottaw-logo.jpg
ORGANIZER;CN="City of Ottawa.ca":MAILTO:stacey.wu@ottawa.ca
END:VEVENT
BEGIN:VEVENT
DTSTART;TZID=America/Toronto:20220620T140000
DTEND;TZID=America/Toronto:20220620T160000
DTSTAMP:20260421T080901
CREATED:20220609T144616Z
LAST-MODIFIED:20220616T171737Z
UID:4474-1655733600-1655740800@welcomingottawaweek.ca
SUMMARY:World Refugee Day: Learning from Ottawa’s Legacy of Extraordinary Action
DESCRIPTION:Advocates from community and faith groups have long played an important role in pressing the Canadian government to adopt more liberal refugee policies. These groups have been driving forces in offering protection for those seeking refuge\, particularly from Southeast Asia in the late 1970s and from Syria beginning in 2015. The experiences are of great significance\, as Canada continues to receive thousands of refugees from Ukraine and Afghanistan. St. Joseph’s Refugee Outreach Committee (ROC)\, one of Ottawa’s longest-serving\, volunteer-run refugee outreach groups\, has helped hundreds of newcomers and refugees since 1990. This event will honour the ROC’s impressive 30+ years of history\, and prompt a larger conversation about how we can all get involved in welcoming refugees in pressing and meaningful ways. It will also mark the launch of the book “”Ordinary People\, Extraordinary Actions””\, which tells how “”ordinary people”” in Ottawa\, and particularly at St. Joseph’s Parish\, have taken small and big steps to welcome people seeking refuge into their communities). \nThis event will include brief remarks from:\nJim Watson\, Mayor of Ottawa\nJacques Frémont\, President of the University of Ottawa\nLouisa Taylor\, Director of Refugee613\nLong-serving members of the ROC\nPast newcomers with a connection to the ROC\nThe authors of the book Ordinary People\, Extraordinary Actions: Refuge Through Activism at Ottawa’s St. Joe’s Parish \nCome learn about Ottawa’s rich refugee history and about how to get involved. For any questions concerning this event\, please email patti.lenard@uottawa.ca.
URL:https://welcomingottawaweek.ca/event/world-refugee-day-learning-from-ottawas-legacy-of-extraordinary-action-2/
LOCATION:University of Ottawa\, 550 Cumberland Street (the lawn of Tabaret Hall)
CATEGORIES:Community Engagement
ATTACH;FMTTYPE=image/png:https://welcomingottawaweek.ca/wp-content/uploads/2022/05/Book-Cover.png
ORGANIZER;CN="St. Joseph%E2%80%99s Refugee Outreach Committee":MAILTO:patti.lenard@uottawa.ca
END:VEVENT
END:VCALENDAR