BEGIN:VCALENDAR
VERSION:2.0
PRODID:-//WOW Events - ECPv6.15.20//NONSGML v1.0//EN
CALSCALE:GREGORIAN
METHOD:PUBLISH
X-WR-CALNAME:WOW Events
X-ORIGINAL-URL:https://welcomingottawaweek.ca
X-WR-CALDESC:Events for WOW Events
REFRESH-INTERVAL;VALUE=DURATION:PT1H
X-Robots-Tag:noindex
X-PUBLISHED-TTL:PT1H
BEGIN:VTIMEZONE
TZID:America/Toronto
BEGIN:DAYLIGHT
TZOFFSETFROM:-0500
TZOFFSETTO:-0400
TZNAME:EDT
DTSTART:20210314T070000
END:DAYLIGHT
BEGIN:STANDARD
TZOFFSETFROM:-0400
TZOFFSETTO:-0500
TZNAME:EST
DTSTART:20211107T060000
END:STANDARD
BEGIN:DAYLIGHT
TZOFFSETFROM:-0500
TZOFFSETTO:-0400
TZNAME:EDT
DTSTART:20220313T070000
END:DAYLIGHT
BEGIN:STANDARD
TZOFFSETFROM:-0400
TZOFFSETTO:-0500
TZNAME:EST
DTSTART:20221106T060000
END:STANDARD
BEGIN:DAYLIGHT
TZOFFSETFROM:-0500
TZOFFSETTO:-0400
TZNAME:EDT
DTSTART:20230312T070000
END:DAYLIGHT
BEGIN:STANDARD
TZOFFSETFROM:-0400
TZOFFSETTO:-0500
TZNAME:EST
DTSTART:20231105T060000
END:STANDARD
END:VTIMEZONE
BEGIN:VEVENT
DTSTART;TZID=America/Toronto:20220621T090000
DTEND;TZID=America/Toronto:20220621T090000
DTSTAMP:20260421T093349
CREATED:20220613T142820Z
LAST-MODIFIED:20220613T142820Z
UID:4637-1655802000-1655802000@welcomingottawaweek.ca
SUMMARY:OCISO Info Session
DESCRIPTION:Our friends from Ottawa Community Immigrant Services Organization will be onsite to present their wide range of employment programs. Drop-in to learn more! \n 
URL:https://welcomingottawaweek.ca/event/ociso-info-session/
LOCATION:200 Elgin St\, Suite 903
CATEGORIES:Community Engagement
ATTACH;FMTTYPE=image/png:https://welcomingottawaweek.ca/wp-content/uploads/2022/06/St-Lawrence-College.png
ORGANIZER;CN="Lawrence College Employment Service":MAILTO:atrudel@sl.on.ca
END:VEVENT
BEGIN:VEVENT
DTSTART;TZID=America/Toronto:20220621T100000
DTEND;TZID=America/Toronto:20220621T120000
DTSTAMP:20260421T093349
CREATED:20220612T203321Z
LAST-MODIFIED:20220612T203321Z
UID:4600-1655805600-1655812800@welcomingottawaweek.ca
SUMMARY:Cross-Cultural Competency Workshop Employers: Creating the Workplace that Accommodates Effectively
DESCRIPTION:Employers learn to integrate different cultural norms and reasonable practices when accommodating internationally educated professionals. This workshop is designed to equip employers\, HR professionals\, and people managers with practical skills\, strategies and tools needed to increase cultural competencies and prepare workplaces for a culturally diverse employee base. \n 
URL:https://welcomingottawaweek.ca/event/cross-cultural-competency-workshop-employers-creating-the-workplace-that-accommodates-effectively/
LOCATION:Online
CATEGORIES:Community Engagement
ATTACH;FMTTYPE=image/png:https://welcomingottawaweek.ca/wp-content/uploads/2022/06/HIO.png
ORGANIZER;CN="Hire Immigrants Ottawa (HIO)":MAILTO:lcosta@hireimmigrantsottawa.ca
END:VEVENT
BEGIN:VEVENT
DTSTART;TZID=America/Toronto:20220621T133000
DTEND;TZID=America/Toronto:20220621T153000
DTSTAMP:20260421T093349
CREATED:20220612T203652Z
LAST-MODIFIED:20220612T203940Z
UID:4606-1655818200-1655825400@welcomingottawaweek.ca
SUMMARY:Cross-Cultural Competency Workshop for Employers: Culturally Competent Interviewing Skills
DESCRIPTION:Employers learn to integrate different cultural norms and reasonable practices when accommodating internationally educated professionals. This workshop is designed to equip employers\, HR professionals\, and people managers with practical skills\, strategies and tools needed to increase cultural competencies and prepare workplaces for a culturally diverse employee base. \n 
URL:https://welcomingottawaweek.ca/event/cross-cultural-competency-workshop-for-employers-culturally-competent-interviewing-skills/
LOCATION:Online
CATEGORIES:Educational Activities
ATTACH;FMTTYPE=image/png:https://welcomingottawaweek.ca/wp-content/uploads/2022/06/HIO.png
ORGANIZER;CN="Hire Immigrants Ottawa (HIO)":MAILTO:lcosta@hireimmigrantsottawa.ca
END:VEVENT
BEGIN:VEVENT
DTSTART;TZID=America/Toronto:20220621T140000
DTEND;TZID=America/Toronto:20220621T150000
DTSTAMP:20260421T093349
CREATED:20220612T201815Z
LAST-MODIFIED:20220612T201815Z
UID:4594-1655820000-1655823600@welcomingottawaweek.ca
SUMMARY:HIV Health Navigation for Migrants
DESCRIPTION:Navigating HIV care as a newcomer can be quite challenging. This community conversation will focus on strategies for service providers to assist clients in accessing HIV prevention\, testing and treatment in the region. Participants will leave with concrete tips to deliver stigma-free\, culturally competent services.\nThe event is a hybrid format\, hosted both on Google Meet and in person at Somerset West Community Health Centre . Masks are required on site. Please register HERE \n 
URL:https://welcomingottawaweek.ca/event/hiv-health-navigation-for-migrants/
LOCATION:Online and In-Person at 55 Eccles Street
CATEGORIES:Educational Activities
ATTACH;FMTTYPE=image/png:https://welcomingottawaweek.ca/wp-content/uploads/2022/06/SWCHC.png
ORGANIZER;CN="Somerset West Community Health Centre":MAILTO:kprempeh@swchc.on.ca 
END:VEVENT
END:VCALENDAR