BEGIN:VCALENDAR
VERSION:2.0
PRODID:-//WOW Events - ECPv6.15.20//NONSGML v1.0//EN
CALSCALE:GREGORIAN
METHOD:PUBLISH
X-WR-CALNAME:WOW Events
X-ORIGINAL-URL:https://welcomingottawaweek.ca
X-WR-CALDESC:Events for WOW Events
REFRESH-INTERVAL;VALUE=DURATION:PT1H
X-Robots-Tag:noindex
X-PUBLISHED-TTL:PT1H
BEGIN:VTIMEZONE
TZID:America/Toronto
BEGIN:DAYLIGHT
TZOFFSETFROM:-0500
TZOFFSETTO:-0400
TZNAME:EDT
DTSTART:20210314T070000
END:DAYLIGHT
BEGIN:STANDARD
TZOFFSETFROM:-0400
TZOFFSETTO:-0500
TZNAME:EST
DTSTART:20211107T060000
END:STANDARD
BEGIN:DAYLIGHT
TZOFFSETFROM:-0500
TZOFFSETTO:-0400
TZNAME:EDT
DTSTART:20220313T070000
END:DAYLIGHT
BEGIN:STANDARD
TZOFFSETFROM:-0400
TZOFFSETTO:-0500
TZNAME:EST
DTSTART:20221106T060000
END:STANDARD
BEGIN:DAYLIGHT
TZOFFSETFROM:-0500
TZOFFSETTO:-0400
TZNAME:EDT
DTSTART:20230312T070000
END:DAYLIGHT
BEGIN:STANDARD
TZOFFSETFROM:-0400
TZOFFSETTO:-0500
TZNAME:EST
DTSTART:20231105T060000
END:STANDARD
END:VTIMEZONE
BEGIN:VEVENT
DTSTART;TZID=America/Toronto:20220623T120000
DTEND;TZID=America/Toronto:20220623T120000
DTSTAMP:20260421T121145
CREATED:20220610T141044Z
LAST-MODIFIED:20220610T141235Z
UID:4569-1655985600-1655985600@welcomingottawaweek.ca
SUMMARY:Welch EDI Showcase
DESCRIPTION:Learn about how Welch LLP is taking action to be an inclusive employer. Meet a few Welch LLP staff members at this in-person event\,as well as participate in a panel discussion with members of EDICA. Light refreshments will be provided. \n2022-06-23 12:00 Welch LLP Office\, 3rd Floor\, 123 Slater Street\, Ottawa\, ON\,   https://www.eventbrite.ca/e/welch-edi-showcase-tickets-353854998827 English/ Anglais
URL:https://welcomingottawaweek.ca/event/welch-edi-showcase/
LOCATION:Welch LLP Office\, 3rd Floor\, 123 Slater Street\, Ottawa\, ON\, K1P 5H2\, 123 Slater Street\, 3rd Floor\, Ottawa\, Ontario\, K1P 5H2\, Canada
CATEGORIES:Educational Activities
ATTACH;FMTTYPE=image/png:https://welcomingottawaweek.ca/wp-content/uploads/2022/06/WelchLLP.png
ORGANIZER;CN="Welch LLP":MAILTO:krodricks@welchllp.com
END:VEVENT
BEGIN:VEVENT
DTSTART;TZID=America/Toronto:20220623T130000
DTEND;TZID=America/Toronto:20220623T130000
DTSTAMP:20260421T121145
CREATED:20220613T195540Z
LAST-MODIFIED:20220613T210923Z
UID:4696-1655989200-1655989200@welcomingottawaweek.ca
SUMMARY:OCISO Presents: Sharing Our Voices
DESCRIPTION:OCISO will host a storytelling segment to bring attention to particular challenges and successes encountered by immigrants in their integration journey using the idea of the Human Library. \nWhat is a Human Library? A Human Library is a way for people to reach out and connect with individuals in their community that they might not normally engage with. Visitors to a library have an opportunity to borrow Human Books and engage in conversation with the books during a planned event. \n  \n 
URL:https://welcomingottawaweek.ca/event/ociso-presents-sharing-our-voices/
LOCATION:945 Wellington Street West
CATEGORIES:Community Engagement
ATTACH;FMTTYPE=image/jpeg:https://welcomingottawaweek.ca/wp-content/uploads/2019/06/OCISO-logo-rev2.jpg
ORGANIZER;CN="OCISO":MAILTO:droman@ociso.org
END:VEVENT
BEGIN:VEVENT
DTSTART;TZID=America/Toronto:20220623T130000
DTEND;TZID=America/Toronto:20220623T150000
DTSTAMP:20260421T121145
CREATED:20220612T185451Z
LAST-MODIFIED:20220612T190649Z
UID:4591-1655989200-1655996400@welcomingottawaweek.ca
SUMMARY:OLIP Health & Wellbeing ST Meeting
DESCRIPTION:Monthly meeting of the representatives of OLIP’s Health & Wellbeing sector partners including representatives from other sector tables\, as a way to discuss solutions to the cross-cutting challenges brought forward by the COVID-19 pandemic. Its mandate is to: Build local capacity to improve the health and wellbeing of immigrants and racialized populations by: i) Establishing a common agenda; ii) Mobilizing bottom-up knowledge to guide planning; iii) Creating relationships and mechanisms to enable collaborative implementation of our shared priorities” \n 
URL:https://welcomingottawaweek.ca/event/olip-health-wellbeing-st-meeting/
LOCATION:Online [Closed Meeting – OLIP Partners Only]
CATEGORIES:Community Engagement
ATTACH;FMTTYPE=image/png:https://welcomingottawaweek.ca/wp-content/uploads/2019/06/OLIP-Logo_official-darker-version.png
ORGANIZER;CN="Ottawa Local Immigrantion Partnership (OLIP)":MAILTO:nyamulola@olip-plio.ca
END:VEVENT
END:VCALENDAR