BEGIN:VCALENDAR
VERSION:2.0
PRODID:-//WOW Events - ECPv6.15.20//NONSGML v1.0//EN
CALSCALE:GREGORIAN
METHOD:PUBLISH
X-ORIGINAL-URL:https://welcomingottawaweek.ca
X-WR-CALDESC:Events for WOW Events
REFRESH-INTERVAL;VALUE=DURATION:PT1H
X-Robots-Tag:noindex
X-PUBLISHED-TTL:PT1H
BEGIN:VTIMEZONE
TZID:America/Toronto
BEGIN:DAYLIGHT
TZOFFSETFROM:-0500
TZOFFSETTO:-0400
TZNAME:EDT
DTSTART:20210314T070000
END:DAYLIGHT
BEGIN:STANDARD
TZOFFSETFROM:-0400
TZOFFSETTO:-0500
TZNAME:EST
DTSTART:20211107T060000
END:STANDARD
BEGIN:DAYLIGHT
TZOFFSETFROM:-0500
TZOFFSETTO:-0400
TZNAME:EDT
DTSTART:20220313T070000
END:DAYLIGHT
BEGIN:STANDARD
TZOFFSETFROM:-0400
TZOFFSETTO:-0500
TZNAME:EST
DTSTART:20221106T060000
END:STANDARD
BEGIN:DAYLIGHT
TZOFFSETFROM:-0500
TZOFFSETTO:-0400
TZNAME:EDT
DTSTART:20230312T070000
END:DAYLIGHT
BEGIN:STANDARD
TZOFFSETFROM:-0400
TZOFFSETTO:-0500
TZNAME:EST
DTSTART:20231105T060000
END:STANDARD
END:VTIMEZONE
BEGIN:VEVENT
DTSTART;TZID=America/Toronto:20220625T000000
DTEND;TZID=America/Toronto:20220625T160000
DTSTAMP:20260421T150035
CREATED:20220624T150750Z
LAST-MODIFIED:20220624T163026Z
UID:5122-1656115200-1656172800@welcomingottawaweek.ca
SUMMARY:Celebrating Multiculturalism Day
DESCRIPTION:The event is taking place on the west slab of the arena. We will have a stage and a series of entertainers\, live music\, free food and non alcoholic beverages. Other invitees include\, the ACB\, and AMA centre.
URL:https://welcomingottawaweek.ca/event/celebrating-multiculturalism-day/
LOCATION:Ottawa\, Ontario\, Canada
CATEGORIES:Community Engagement
ATTACH;FMTTYPE=image/jpeg:https://welcomingottawaweek.ca/wp-content/uploads/2022/06/EORC.jpg
END:VEVENT
BEGIN:VEVENT
DTSTART;TZID=America/Toronto:20220625T140000
DTEND;TZID=America/Toronto:20220625T140000
DTSTAMP:20260421T150035
CREATED:20220616T151318Z
LAST-MODIFIED:20220616T152333Z
UID:4767-1656165600-1656165600@welcomingottawaweek.ca
SUMMARY:USHO Picnic
DESCRIPTION:Potluck picnic for Ukrainian refugees and their hosts. It’s a potluck\, so bring a dish to share. Some local community organizations will be in hand to provide details of their services. \n 
URL:https://welcomingottawaweek.ca/event/usho-picnic/
LOCATION:Walter Baker Park\, 100 Charlie Rogers Pl\, Kanata
CATEGORIES:Community Engagement
ATTACH;FMTTYPE=application/pdf:https://welcomingottawaweek.ca/wp-content/uploads/2022/06/USHO-Picnic.pdf
ORGANIZER;CN="Ukrainian Settlement Ottawa":MAILTO:UkrainianSettlementOttawa@gmail.com
END:VEVENT
END:VCALENDAR