BEGIN:VCALENDAR
VERSION:2.0
PRODID:-//WOW Events - ECPv6.15.20//NONSGML v1.0//EN
CALSCALE:GREGORIAN
METHOD:PUBLISH
X-ORIGINAL-URL:https://welcomingottawaweek.ca
X-WR-CALDESC:Events for WOW Events
REFRESH-INTERVAL;VALUE=DURATION:PT1H
X-Robots-Tag:noindex
X-PUBLISHED-TTL:PT1H
BEGIN:VTIMEZONE
TZID:America/Toronto
BEGIN:DAYLIGHT
TZOFFSETFROM:-0500
TZOFFSETTO:-0400
TZNAME:EDT
DTSTART:20210314T070000
END:DAYLIGHT
BEGIN:STANDARD
TZOFFSETFROM:-0400
TZOFFSETTO:-0500
TZNAME:EST
DTSTART:20211107T060000
END:STANDARD
BEGIN:DAYLIGHT
TZOFFSETFROM:-0500
TZOFFSETTO:-0400
TZNAME:EDT
DTSTART:20220313T070000
END:DAYLIGHT
BEGIN:STANDARD
TZOFFSETFROM:-0400
TZOFFSETTO:-0500
TZNAME:EST
DTSTART:20221106T060000
END:STANDARD
BEGIN:DAYLIGHT
TZOFFSETFROM:-0500
TZOFFSETTO:-0400
TZNAME:EDT
DTSTART:20230312T070000
END:DAYLIGHT
BEGIN:STANDARD
TZOFFSETFROM:-0400
TZOFFSETTO:-0500
TZNAME:EST
DTSTART:20231105T060000
END:STANDARD
END:VTIMEZONE
BEGIN:VEVENT
DTSTART;TZID=America/Toronto:20220627T090000
DTEND;TZID=America/Toronto:20220627T120000
DTSTAMP:20260421T171457
CREATED:20220610T144926Z
LAST-MODIFIED:20220612T184854Z
UID:4585-1656320400-1656331200@welcomingottawaweek.ca
SUMMARY:OLIP Council Meeting
DESCRIPTION:Annual meeting of the representatives of OLIP’s sectoral partners (including the Co-chairs of the 5 OLIP Sector Tables) and stakeholders engaged in the implementation of the Ottawa Immigration strategy (OIS). Its role includes to: i) Provide approval of key directions\, strategies\, and policies; ii) Monitor the work of the Sector Tables through progress reports; iii) Provide strategic oversight on how to implement plans and project priorities indicated in the OIS. \n 
URL:https://welcomingottawaweek.ca/event/olip-council-meeting/
LOCATION:Online
CATEGORIES:Community Engagement
ATTACH;FMTTYPE=image/png:https://welcomingottawaweek.ca/wp-content/uploads/2019/06/OLIP-Logo_official-darker-version.png
ORGANIZER;CN="Ottawa Local Immigrantion Partnership (OLIP)":MAILTO:nyamulola@olip-plio.ca
END:VEVENT
BEGIN:VEVENT
DTSTART;TZID=America/Toronto:20220627T133000
DTEND;TZID=America/Toronto:20220627T133000
DTSTAMP:20260421T171457
CREATED:20220613T155229Z
LAST-MODIFIED:20220613T155242Z
UID:4652-1656336600-1656336600@welcomingottawaweek.ca
SUMMARY:Resume & Cover Letter Webinar
DESCRIPTION:Trying to revamp your resume and cover letter\, but getting lost in all the tips and advice you find online? Join us in learning all of the basics when it comes to job applications. This informative workshop will cover the key components to building an effective resume and cover letter\, PLUS some helpful time saving tips! Please register here. \n 
URL:https://welcomingottawaweek.ca/event/resume-cover-letter-webinar/
LOCATION:Online
CATEGORIES:Educational Activities
ATTACH;FMTTYPE=image/png:https://welcomingottawaweek.ca/wp-content/uploads/2022/06/St-Lawrence-College.png
ORGANIZER;CN="St. Lawrence College Employment Service":MAILTO:atrudel@sl.on.ca
END:VEVENT
BEGIN:VEVENT
DTSTART;TZID=America/Toronto:20220627T140000
DTEND;TZID=America/Toronto:20220627T160000
DTSTAMP:20260421T171457
CREATED:20220610T142635Z
LAST-MODIFIED:20220614T184038Z
UID:4577-1656338400-1656345600@welcomingottawaweek.ca
SUMMARY:Canadian Multiculturalism Day
DESCRIPTION:The Newcomer Information Centre invites you to the “Canadian Multiculturalism Day Celebration”. This day is an opportunity for us to recognize the contributions of diverse cultures that make up our land. Join us as we celebrate this special day through fun activities\, various cultural entertaining performances (poetry and music)\, and an exhibit to showcase the richness of cultures and traditions around the globe. \n 
URL:https://welcomingottawaweek.ca/event/canadian-multiculturalism-day/
LOCATION:150 Isabella Street Unit 201
CATEGORIES:Community Engagement
ATTACH;FMTTYPE=image/png:https://welcomingottawaweek.ca/wp-content/uploads/2022/06/ymca-ywca.png
ORGANIZER;CN="YMCA-YWCA Newcomer Information Centre":MAILTO:satheeka.hettigama@ymcaywca.ca
END:VEVENT
END:VCALENDAR