BEGIN:VCALENDAR
VERSION:2.0
PRODID:-//WOW Events - ECPv6.15.20//NONSGML v1.0//EN
CALSCALE:GREGORIAN
METHOD:PUBLISH
X-ORIGINAL-URL:https://welcomingottawaweek.ca
X-WR-CALDESC:Events for WOW Events
REFRESH-INTERVAL;VALUE=DURATION:PT1H
X-Robots-Tag:noindex
X-PUBLISHED-TTL:PT1H
BEGIN:VTIMEZONE
TZID:America/Toronto
BEGIN:DAYLIGHT
TZOFFSETFROM:-0500
TZOFFSETTO:-0400
TZNAME:EDT
DTSTART:20210314T070000
END:DAYLIGHT
BEGIN:STANDARD
TZOFFSETFROM:-0400
TZOFFSETTO:-0500
TZNAME:EST
DTSTART:20211107T060000
END:STANDARD
BEGIN:DAYLIGHT
TZOFFSETFROM:-0500
TZOFFSETTO:-0400
TZNAME:EDT
DTSTART:20220313T070000
END:DAYLIGHT
BEGIN:STANDARD
TZOFFSETFROM:-0400
TZOFFSETTO:-0500
TZNAME:EST
DTSTART:20221106T060000
END:STANDARD
BEGIN:DAYLIGHT
TZOFFSETFROM:-0500
TZOFFSETTO:-0400
TZNAME:EDT
DTSTART:20230312T070000
END:DAYLIGHT
BEGIN:STANDARD
TZOFFSETFROM:-0400
TZOFFSETTO:-0500
TZNAME:EST
DTSTART:20231105T060000
END:STANDARD
END:VTIMEZONE
BEGIN:VEVENT
DTSTART;TZID=America/Toronto:20220628T130000
DTEND;TZID=America/Toronto:20220628T150000
DTSTAMP:20260421T182553
CREATED:20220613T173044Z
LAST-MODIFIED:20220613T173044Z
UID:4671-1656421200-1656428400@welcomingottawaweek.ca
SUMMARY:Newcomer Networking
DESCRIPTION:Build new professional connections and meet employers to get practical advice on finding work in Ottawa. \n  \n  \n  \n 
URL:https://welcomingottawaweek.ca/event/newcomer-networking/
LOCATION:2529 Carling Ave – 2nd Floor
CATEGORIES:Community Engagement
ATTACH;FMTTYPE=image/png:https://welcomingottawaweek.ca/wp-content/uploads/2022/06/PQCHC.png
ORGANIZER;CN="Pinecrest-Queensway Community Health Centre":MAILTO:j.shirwa@pqchc.com or itpprogrampq@gmail.com
END:VEVENT
END:VCALENDAR