BEGIN:VCALENDAR
VERSION:2.0
PRODID:-//WOW Events - ECPv6.15.20//NONSGML v1.0//EN
CALSCALE:GREGORIAN
METHOD:PUBLISH
X-ORIGINAL-URL:https://welcomingottawaweek.ca
X-WR-CALDESC:Events for WOW Events
REFRESH-INTERVAL;VALUE=DURATION:PT1H
X-Robots-Tag:noindex
X-PUBLISHED-TTL:PT1H
BEGIN:VTIMEZONE
TZID:America/Toronto
BEGIN:DAYLIGHT
TZOFFSETFROM:-0500
TZOFFSETTO:-0400
TZNAME:EDT
DTSTART:20220313T070000
END:DAYLIGHT
BEGIN:STANDARD
TZOFFSETFROM:-0400
TZOFFSETTO:-0500
TZNAME:EST
DTSTART:20221106T060000
END:STANDARD
BEGIN:DAYLIGHT
TZOFFSETFROM:-0500
TZOFFSETTO:-0400
TZNAME:EDT
DTSTART:20230312T070000
END:DAYLIGHT
BEGIN:STANDARD
TZOFFSETFROM:-0400
TZOFFSETTO:-0500
TZNAME:EST
DTSTART:20231105T060000
END:STANDARD
BEGIN:DAYLIGHT
TZOFFSETFROM:-0500
TZOFFSETTO:-0400
TZNAME:EDT
DTSTART:20240310T070000
END:DAYLIGHT
BEGIN:STANDARD
TZOFFSETFROM:-0400
TZOFFSETTO:-0500
TZNAME:EST
DTSTART:20241103T060000
END:STANDARD
END:VTIMEZONE
BEGIN:VEVENT
DTSTART;TZID=America/Toronto:20230619T080000
DTEND;TZID=America/Toronto:20230619T110000
DTSTAMP:20260421T231828
CREATED:20230607T192226Z
LAST-MODIFIED:20230615T150231Z
UID:4473-1687161600-1687172400@welcomingottawaweek.ca
SUMMARY:Breakfast Event to Launch #WOW2023
DESCRIPTION:The Ottawa Local Immigration Partnership (OLIP) will host an event to kick-start 2023 Welcoming Ottawa Week (WOW) activities. This invitation-only event is for OLIP partners\, WOW event hosts\, Welcoming Ambassador Award recipients\, civil society leaders\, faith leaders and business and government executives.
URL:https://welcomingottawaweek.ca/event/breakfast-event-to-launch-wow2023/
LOCATION:Innovation Centre – RBC Foundry Hall\, 7 Bayview Yards\, Ottawa
CATEGORIES:Community Engagement
ATTACH;FMTTYPE=image/png:https://welcomingottawaweek.ca/wp-content/uploads/2023/06/logo-retina.png
ORGANIZER;CN="Ottawa Local Immigrantion Partnership (OLIP)":MAILTO:nyamulola@olip-plio.ca
END:VEVENT
BEGIN:VEVENT
DTSTART;TZID=America/Toronto:20230619T090000
DTEND;TZID=America/Toronto:20230619T090000
DTSTAMP:20260421T231828
CREATED:20230611T181639Z
LAST-MODIFIED:20230612T111510Z
UID:5682-1687165200-1687165200@welcomingottawaweek.ca
SUMMARY:Canadians of African Descent Health Organization (CADHO)
DESCRIPTION:Canadians of African Descent Health Organization (CADHO) would like you to participate in a session to greet guests and explain to what the health organization does for people in African\, Caribbean and Black communities. \nLanguage: Bilingual
URL:https://welcomingottawaweek.ca/event/canadians-of-african-descent-health-organization-cadho/
LOCATION:Ontario
CATEGORIES:Educational Activities,Learning Events
ATTACH;FMTTYPE=image/png:https://welcomingottawaweek.ca/wp-content/uploads/2023/06/CADHO.png
ORGANIZER;CN="Canadians of African Descent Health Organization (CADHO)":MAILTO:mababio@uottawa.ca
END:VEVENT
BEGIN:VEVENT
DTSTART;TZID=America/Toronto:20230619T160000
DTEND;TZID=America/Toronto:20230619T160000
DTSTAMP:20260421T231828
CREATED:20230610T192601Z
LAST-MODIFIED:20230612T120524Z
UID:5658-1687190400-1687190400@welcomingottawaweek.ca
SUMMARY:Azerbaijan Heritage Day
DESCRIPTION:To promote music\, song\, history of Azerbaijan. \nLanguage: English
URL:https://welcomingottawaweek.ca/event/azerbaijan-heritage-day/
LOCATION:Parliament Hill
CATEGORIES:Arts & Entertainment,Sharing Cultural Activities
ATTACH;FMTTYPE=image/png:https://welcomingottawaweek.ca/wp-content/uploads/2019/02/WOW-logo-e1557879385200.png
ORGANIZER;CN="Azerbaijan Art and Culture Center":MAILTO:lalin_hasanova@yahoo.com
END:VEVENT
END:VCALENDAR