BEGIN:VCALENDAR
VERSION:2.0
PRODID:-//WOW Events - ECPv6.15.20//NONSGML v1.0//EN
CALSCALE:GREGORIAN
METHOD:PUBLISH
X-ORIGINAL-URL:https://welcomingottawaweek.ca
X-WR-CALDESC:Events for WOW Events
REFRESH-INTERVAL;VALUE=DURATION:PT1H
X-Robots-Tag:noindex
X-PUBLISHED-TTL:PT1H
BEGIN:VTIMEZONE
TZID:America/Toronto
BEGIN:DAYLIGHT
TZOFFSETFROM:-0500
TZOFFSETTO:-0400
TZNAME:EDT
DTSTART:20220313T070000
END:DAYLIGHT
BEGIN:STANDARD
TZOFFSETFROM:-0400
TZOFFSETTO:-0500
TZNAME:EST
DTSTART:20221106T060000
END:STANDARD
BEGIN:DAYLIGHT
TZOFFSETFROM:-0500
TZOFFSETTO:-0400
TZNAME:EDT
DTSTART:20230312T070000
END:DAYLIGHT
BEGIN:STANDARD
TZOFFSETFROM:-0400
TZOFFSETTO:-0500
TZNAME:EST
DTSTART:20231105T060000
END:STANDARD
BEGIN:DAYLIGHT
TZOFFSETFROM:-0500
TZOFFSETTO:-0400
TZNAME:EDT
DTSTART:20240310T070000
END:DAYLIGHT
BEGIN:STANDARD
TZOFFSETFROM:-0400
TZOFFSETTO:-0500
TZNAME:EST
DTSTART:20241103T060000
END:STANDARD
END:VTIMEZONE
BEGIN:VEVENT
DTSTART;TZID=America/Toronto:20230621T130000
DTEND;TZID=America/Toronto:20230621T130000
DTSTAMP:20260422T020423
CREATED:20230609T092136Z
LAST-MODIFIED:20230612T153332Z
UID:5624-1687352400-1687352400@welcomingottawaweek.ca
SUMMARY:Welcoming Ottawa Week at the City of Ottawa
DESCRIPTION:Meet the City In-person Event \nCome learn about the different departments at the City and the various free programs we offer! Meet and chat with staff from: \n\nOttawa Public Library\nOttawa Police\nOttawa Public Health\nPublic Works\nHuman Resources\nOC Transpo\n\nAnd so much more! \nSpeak with our many different departments to find out about hiring\, applying\, services we offer\, and what we do. Hear about the services and resources available for newcomers to Ottawa. \nSnacks and light refreshments will be provided (quantities are limited) \nLanguage: Multilingual
URL:https://welcomingottawaweek.ca/event/welcoming-ottawa-week-at-the-city-of-ottawa/
LOCATION:Social Services Centre\, 370 Catherine Street\, Ottawa
CATEGORIES:Civic Engagement
ATTACH;FMTTYPE=image/jpeg:https://welcomingottawaweek.ca/wp-content/uploads/2019/06/city-of-ottaw-logo.jpg
ORGANIZER;CN="City of Ottawa":MAILTO:Stacey.wu@ottawa.ca
END:VEVENT
END:VCALENDAR