BEGIN:VCALENDAR
VERSION:2.0
PRODID:-//WOW Events - ECPv6.15.20//NONSGML v1.0//EN
CALSCALE:GREGORIAN
METHOD:PUBLISH
X-WR-CALNAME:WOW Events
X-ORIGINAL-URL:https://welcomingottawaweek.ca
X-WR-CALDESC:Events for WOW Events
REFRESH-INTERVAL;VALUE=DURATION:PT1H
X-Robots-Tag:noindex
X-PUBLISHED-TTL:PT1H
BEGIN:VTIMEZONE
TZID:America/Toronto
BEGIN:DAYLIGHT
TZOFFSETFROM:-0500
TZOFFSETTO:-0400
TZNAME:EDT
DTSTART:20220313T070000
END:DAYLIGHT
BEGIN:STANDARD
TZOFFSETFROM:-0400
TZOFFSETTO:-0500
TZNAME:EST
DTSTART:20221106T060000
END:STANDARD
BEGIN:DAYLIGHT
TZOFFSETFROM:-0500
TZOFFSETTO:-0400
TZNAME:EDT
DTSTART:20230312T070000
END:DAYLIGHT
BEGIN:STANDARD
TZOFFSETFROM:-0400
TZOFFSETTO:-0500
TZNAME:EST
DTSTART:20231105T060000
END:STANDARD
BEGIN:DAYLIGHT
TZOFFSETFROM:-0500
TZOFFSETTO:-0400
TZNAME:EDT
DTSTART:20240310T070000
END:DAYLIGHT
BEGIN:STANDARD
TZOFFSETFROM:-0400
TZOFFSETTO:-0500
TZNAME:EST
DTSTART:20241103T060000
END:STANDARD
END:VTIMEZONE
BEGIN:VEVENT
DTSTART;TZID=America/Toronto:20230623T180000
DTEND;TZID=America/Toronto:20230623T180000
DTSTAMP:20260422T015551
CREATED:20230611T183251Z
LAST-MODIFIED:20230615T205916Z
UID:5690-1687543200-1687543200@welcomingottawaweek.ca
SUMMARY:Culture Café
DESCRIPTION:The Catholic Centre for Immigrants (CCI) is a multicultural and diverse community. What better way to share our culture with the community then a night of entertainment through singing\, dancing and poetry performed by CCI staff\, volunteers and our newcomer families. \nLanguage: Bilingual
URL:https://welcomingottawaweek.ca/event/culture-cafe/
LOCATION:Catholic Centre for Immigrants (CCI)\, 219 Argyle Avenue\, Rooms 113 & 114\, Ottawa
CATEGORIES:Music & Story Telling,Poetry,Sharing Cultural Activities
ATTACH;FMTTYPE=image/jpeg:https://welcomingottawaweek.ca/wp-content/uploads/2022/06/CCI-Logo.jpg
ORGANIZER;CN="Catholic Centre for Immigrants":MAILTO:laurie@cciottawa.ca
END:VEVENT
END:VCALENDAR