BEGIN:VCALENDAR
VERSION:2.0
PRODID:-//WOW Events - ECPv6.15.20//NONSGML v1.0//EN
CALSCALE:GREGORIAN
METHOD:PUBLISH
X-WR-CALNAME:WOW Events
X-ORIGINAL-URL:https://welcomingottawaweek.ca
X-WR-CALDESC:Events for WOW Events
REFRESH-INTERVAL;VALUE=DURATION:PT1H
X-Robots-Tag:noindex
X-PUBLISHED-TTL:PT1H
BEGIN:VTIMEZONE
TZID:America/Toronto
BEGIN:DAYLIGHT
TZOFFSETFROM:-0500
TZOFFSETTO:-0400
TZNAME:EDT
DTSTART:20220313T070000
END:DAYLIGHT
BEGIN:STANDARD
TZOFFSETFROM:-0400
TZOFFSETTO:-0500
TZNAME:EST
DTSTART:20221106T060000
END:STANDARD
BEGIN:DAYLIGHT
TZOFFSETFROM:-0500
TZOFFSETTO:-0400
TZNAME:EDT
DTSTART:20230312T070000
END:DAYLIGHT
BEGIN:STANDARD
TZOFFSETFROM:-0400
TZOFFSETTO:-0500
TZNAME:EST
DTSTART:20231105T060000
END:STANDARD
BEGIN:DAYLIGHT
TZOFFSETFROM:-0500
TZOFFSETTO:-0400
TZNAME:EDT
DTSTART:20240310T070000
END:DAYLIGHT
BEGIN:STANDARD
TZOFFSETFROM:-0400
TZOFFSETTO:-0500
TZNAME:EST
DTSTART:20241103T060000
END:STANDARD
END:VTIMEZONE
BEGIN:VEVENT
DTSTART;TZID=America/Toronto:20230624T100000
DTEND;TZID=America/Toronto:20230624T100000
DTSTAMP:20260422T020249
CREATED:20230608T135727Z
LAST-MODIFIED:20230608T143406Z
UID:5605-1687600800-1687600800@welcomingottawaweek.ca
SUMMARY:Ottawa Soccer Tournament 2023 - 4th Edition
DESCRIPTION:This tournament brings together approximately 500 people from all over the country\, held at the beginning of the summer. \nLanguage: French
URL:https://welcomingottawaweek.ca/event/ottawa-soccer-tournament-2023-4th-edition/
LOCATION:Shefford Park\, 813 Shefford Road\, Gloucester
CATEGORIES:Sports Activities & Tournaments
ATTACH;FMTTYPE=image/png:https://welcomingottawaweek.ca/wp-content/uploads/2023/06/CAMSCO70.png
ORGANIZER;CN="CAMSCO":MAILTO:info@camsco.org
END:VEVENT
BEGIN:VEVENT
DTSTART;TZID=America/Toronto:20230624T110000
DTEND;TZID=America/Toronto:20230624T110000
DTSTAMP:20260422T020249
CREATED:20230612T025612Z
LAST-MODIFIED:20230614T151301Z
UID:5859-1687604400-1687604400@welcomingottawaweek.ca
SUMMARY:International Cultural Event
DESCRIPTION:Sandy Hill Community Health Centre is hosting\, as part of the Welcoming Ottawa Week\, on Saturday June 24\, 2023\, a cultural community event to celebrate the diversity of Sandy Hill newcomers. \nWe are inviting a limited number of students 8-12 years old to participate in a short video documentary: \n• Say Hello in your native language\n• What do you enjoy the most in Canada?\n• What do you miss about your home country? \nAttendees will be sharing meals from overseas\, participating in artistic activities and sharing knowledge and values from different cultures with other community members. \nA blast of colours\, tastes and happiness. \nOn Saturday\, June 24\, 2023\, we celebrate diversity in our community! \nLanguage: Bilingual
URL:https://welcomingottawaweek.ca/event/international-cultural-event/
LOCATION:731 Chapel Crescent\, Ottawa
CATEGORIES:Community Engagement,Sharing Cultural Activities
ATTACH;FMTTYPE=image/png:https://welcomingottawaweek.ca/wp-content/uploads/2023/06/International-Cultural-Event-1.png
ORGANIZER;CN="Sandy Hill Community Health Centre":MAILTO:fzmounfaloti@sandyhillchc.on.ca
END:VEVENT
END:VCALENDAR