BEGIN:VCALENDAR
VERSION:2.0
PRODID:-//WOW Events - ECPv6.15.20//NONSGML v1.0//EN
CALSCALE:GREGORIAN
METHOD:PUBLISH
X-ORIGINAL-URL:https://welcomingottawaweek.ca
X-WR-CALDESC:Events for WOW Events
REFRESH-INTERVAL;VALUE=DURATION:PT1H
X-Robots-Tag:noindex
X-PUBLISHED-TTL:PT1H
BEGIN:VTIMEZONE
TZID:America/Toronto
BEGIN:DAYLIGHT
TZOFFSETFROM:-0500
TZOFFSETTO:-0400
TZNAME:EDT
DTSTART:20220313T070000
END:DAYLIGHT
BEGIN:STANDARD
TZOFFSETFROM:-0400
TZOFFSETTO:-0500
TZNAME:EST
DTSTART:20221106T060000
END:STANDARD
BEGIN:DAYLIGHT
TZOFFSETFROM:-0500
TZOFFSETTO:-0400
TZNAME:EDT
DTSTART:20230312T070000
END:DAYLIGHT
BEGIN:STANDARD
TZOFFSETFROM:-0400
TZOFFSETTO:-0500
TZNAME:EST
DTSTART:20231105T060000
END:STANDARD
BEGIN:DAYLIGHT
TZOFFSETFROM:-0500
TZOFFSETTO:-0400
TZNAME:EDT
DTSTART:20240310T070000
END:DAYLIGHT
BEGIN:STANDARD
TZOFFSETFROM:-0400
TZOFFSETTO:-0500
TZNAME:EST
DTSTART:20241103T060000
END:STANDARD
END:VTIMEZONE
BEGIN:VEVENT
DTSTART;TZID=America/Toronto:20230625T100000
DTEND;TZID=America/Toronto:20230625T120000
DTSTAMP:20260422T020425
CREATED:20230612T105950Z
LAST-MODIFIED:20230624T143136Z
UID:5906-1687687200-1687694400@welcomingottawaweek.ca
SUMMARY:Museum Neighbourhood Story Jams - Mississippi Valley Textile Museum
DESCRIPTION:What’s your story? Neighbourhood Story Jam is an opportunity to share your story\, your culture\, your traditions\, your memories\, with your neighbours by connecting them with an object you have at home! Engage in 1-on-1 storytelling to listen\, learn\, and connect through the exchange of stories. \nHere are some questions you can ask yourself to spark those stories! Do you have an object that tells this story? \nWhat is your cultural identity?\nWhat is your favourite activity?\nWhat was worth every penny?\nDo you have any traditions?\nWhat’s been passed down to you?\nWhat made an impact on you?\nWhat is your family’s story?\nWhat is your happiest memory? \nBring yourself\, an object\, and a story down to the Mississippi Valley Textile Museum on Sunday\, June 25 at 10 am to participate. \nLanguage: English
URL:https://welcomingottawaweek.ca/event/museum-neighbourhood-story-jams-mississippi-valley-textile-museum/
LOCATION:Mississippi Valley Textile Museum\, Almonte
CATEGORIES:Music & Story Telling
ATTACH;FMTTYPE=image/png:https://welcomingottawaweek.ca/wp-content/uploads/2023/06/Neighbourhood-Story-Jam-mississippi.png
ORGANIZER;CN="Culture Connect":MAILTO:localimmigrationpartnership@algonquincollege.com
END:VEVENT
BEGIN:VEVENT
DTSTART;TZID=America/Toronto:20230625T110000
DTEND;TZID=America/Toronto:20230625T160000
DTSTAMP:20260422T020425
CREATED:20230611T233852Z
LAST-MODIFIED:20230615T172740Z
UID:5730-1687690800-1687708800@welcomingottawaweek.ca
SUMMARY:Blooming Again
DESCRIPTION:Jewish Family Service of Ottawa is inviting the public to attend an exhibition of two newcomer working groups: \nBetween 11:00 am – 4:00\, there is an open exhibition that features the artworks created by newcomer women in the “”Art for Integration-Women Peer Support Program””. The program provides a space for acquiring knowledge about Canada and Ottawa and sharing experiences through exposure to and creation of artwork. Visitors are invited to view the artworks\, meet the creators\, and learn about the stories behind the artworks and beyond. \nAt 11:30 am the audience is welcome to attend a one-minute speech event that is the closing event of one of our newcomer youth groups who worked together during the last three months. The participants will showcase their public speaking skills\, applying what they have learned throughout the workshop. Please join us to support their efforts and learn about their experiences. \nLanguage: English and Mandarin
URL:https://welcomingottawaweek.ca/event/blooming-again/
LOCATION:2255 Carling Avene\, Ottawa
CATEGORIES:Arts & Entertainment,Music & Story Telling,Sharing Cultural Activities
ATTACH;FMTTYPE=image/jpeg:https://welcomingottawaweek.ca/wp-content/uploads/2023/06/JFS-1-scaled.jpg
ORGANIZER;CN="Jewish Family Services Ottawa":MAILTO:who@jfsottawa.com
END:VEVENT
BEGIN:VEVENT
DTSTART;TZID=America/Toronto:20230625T130000
DTEND;TZID=America/Toronto:20230625T130000
DTSTAMP:20260422T020425
CREATED:20230612T003318Z
LAST-MODIFIED:20230623T135954Z
UID:5763-1687698000-1687698000@welcomingottawaweek.ca
SUMMARY:Sunday Hike: Explore Ottawa Gatineau
DESCRIPTION:Come and enjoy nature in our wonderful city. We will take a walk from Ottawa to Gatineau in a loop. Time is around two hours. Wear comfortable shoes and clothing. \nLanguage: English\, French\, Arabic and other languages
URL:https://welcomingottawaweek.ca/event/sunday-hike-explore-ottawa-gatineau/
LOCATION:Ottawa City Hall (Front Entrance)\, 110 Laurier Ave W\, Ottawa
CATEGORIES:Guided Tours,Sharing Cultural Activities
ATTACH;FMTTYPE=image/png:https://welcomingottawaweek.ca/wp-content/uploads/2023/06/Friends-of-Yemen-logo.png
ORGANIZER;CN="Kais Al-Iriani for Friends of Yemen":MAILTO:kaliriani@gmail.com
END:VEVENT
END:VCALENDAR