BEGIN:VCALENDAR
VERSION:2.0
PRODID:-//WOW Events - ECPv6.15.20//NONSGML v1.0//EN
CALSCALE:GREGORIAN
METHOD:PUBLISH
X-WR-CALNAME:WOW Events
X-ORIGINAL-URL:https://welcomingottawaweek.ca
X-WR-CALDESC:Events for WOW Events
REFRESH-INTERVAL;VALUE=DURATION:PT1H
X-Robots-Tag:noindex
X-PUBLISHED-TTL:PT1H
BEGIN:VTIMEZONE
TZID:America/Toronto
BEGIN:DAYLIGHT
TZOFFSETFROM:-0500
TZOFFSETTO:-0400
TZNAME:EDT
DTSTART:20180311T070000
END:DAYLIGHT
BEGIN:STANDARD
TZOFFSETFROM:-0400
TZOFFSETTO:-0500
TZNAME:EST
DTSTART:20181104T060000
END:STANDARD
BEGIN:DAYLIGHT
TZOFFSETFROM:-0500
TZOFFSETTO:-0400
TZNAME:EDT
DTSTART:20190310T070000
END:DAYLIGHT
BEGIN:STANDARD
TZOFFSETFROM:-0400
TZOFFSETTO:-0500
TZNAME:EST
DTSTART:20191103T060000
END:STANDARD
BEGIN:DAYLIGHT
TZOFFSETFROM:-0500
TZOFFSETTO:-0400
TZNAME:EDT
DTSTART:20200308T070000
END:DAYLIGHT
BEGIN:STANDARD
TZOFFSETFROM:-0400
TZOFFSETTO:-0500
TZNAME:EST
DTSTART:20201101T060000
END:STANDARD
END:VTIMEZONE
BEGIN:VEVENT
DTSTART;TZID=America/Toronto:20190619T080000
DTEND;TZID=America/Toronto:20190619T160000
DTSTAMP:20260421T203148
CREATED:20190510T163229Z
LAST-MODIFIED:20190613T003949Z
UID:858-1560931200-1560960000@welcomingottawaweek.ca
SUMMARY:Ottawa-Gatineau Bus Tour
DESCRIPTION:Join us for our Ottawa-Gatineau bus tour\, offered in partnership with the City of Gatineau. The tour will contribute to the successful integration of newcomers into the Region by promoting and increasing awareness of: \n\nThe strong regional metropolis that exists in Ottawa and Gatineau\nThe local historical\, recreational and cultural attractions\nThe many services and programs available throughout the cities\n\nSeats are limited. Registration is required through participating settlement agencies in Ottawa. \nTime: 8:00 a.m. to 4:00 p.m.\nStart-Time: 8:00 a.m. YMCA pick-up \n 
URL:https://welcomingottawaweek.ca/event/ottawa-gatineau-bus-tour/
LOCATION:Ottawa\, Canada
CATEGORIES:Guided Tours
ATTACH;FMTTYPE=image/jpeg:https://welcomingottawaweek.ca/wp-content/uploads/2019/06/Ottawa-Gatineau-Bus-Tour-June-19.jpeg
END:VEVENT
BEGIN:VEVENT
DTSTART;TZID=America/Toronto:20190618T170000
DTEND;TZID=America/Toronto:20190618T183000
DTSTAMP:20260421T203148
CREATED:20190510T184838Z
LAST-MODIFIED:20190613T005255Z
UID:807-1560877200-1560882600@welcomingottawaweek.ca
SUMMARY:Newcomer Job Interview Coaching Event
DESCRIPTION:Hire Immigrants Ottawa will provide an opportunity for newcomers to do practice interviews hosted by the Ottawa Catholic School Board. \nCoaching events like this one bring employers and skilled immigrants together in a relaxed and informal setting outside the context of an actual job interview.  During the event\, employers provide advice to help skilled immigrants more effectively navigate the local job market. In turn\, the coaching helps employers develop a more diverse network of talent and expand their understanding of the skills and qualifications of newcomers to Canada. The coaching is also a valuable way for employers to practice and develop their own cross-cultural competency skills.
URL:https://welcomingottawaweek.ca/event/newcomer-job-interview-coaching-event/
LOCATION:Ottawa\, Canada
CATEGORIES:Community Engagement
ATTACH;FMTTYPE=image/jpeg:https://welcomingottawaweek.ca/wp-content/uploads/2019/06/Newcomer-Job-Interview-Coaching-Event-June-18.jpeg
END:VEVENT
BEGIN:VEVENT
DTSTART;TZID=America/Toronto:20190618T120000
DTEND;TZID=America/Toronto:20190618T130000
DTSTAMP:20260421T203148
CREATED:20190527T205346Z
LAST-MODIFIED:20190613T003933Z
UID:1425-1560859200-1560862800@welcomingottawaweek.ca
SUMMARY:Lunch Hour: Tastes and Sounds of the Middle East
DESCRIPTION:Join us over the lunch hour for a taste of Middle Eastern food and music. Enjoy food samples from the new Big Bites Kitchen\, a recently opened Mediterranean kitchen in Byward Market run by Syrian-Jordanian immigrants. Learn about Syrian-Jordanian food. Listen to Middle Eastern tunes played on the oud by Ammar Baitalmal. Drop-in to Main Branch and celebrate!
URL:https://welcomingottawaweek.ca/event/lunch-hour-tastes-and-sounds-of-the-middle-east/
LOCATION:Ottawa\, Canada
CATEGORIES:Arts & Entertainment
ATTACH;FMTTYPE=image/png:https://welcomingottawaweek.ca/wp-content/uploads/2019/05/OPL-Logo.png
END:VEVENT
BEGIN:VEVENT
DTSTART;TZID=America/Toronto:20190618T100000
DTEND;TZID=America/Toronto:20190618T150000
DTSTAMP:20260421T203148
CREATED:20190510T190810Z
LAST-MODIFIED:20190613T003932Z
UID:802-1560852000-1560870000@welcomingottawaweek.ca
SUMMARY:Y Crawl
DESCRIPTION:The Y Crawl will introduce newcomers to the diverse variety of services available. Participants will be given a free passport and receive stamps at each different location as they learn new information about the Y’s services. \nParticipating locations are: \n• Taggart Family Y\, 180 Argyle Ave.\n• Y Language Assessment and Referral Centre\, 240 Catherine St.\n• Y Employment Access Centre\, 150 Isabella St. \nNewcomers will get immediate access to staff to learn about all the different supports offered through the YMCA programs and services.
URL:https://welcomingottawaweek.ca/event/y-crawl/
LOCATION:Ottawa\, Canada
CATEGORIES:Community Engagement
ATTACH;FMTTYPE=image/jpeg:https://welcomingottawaweek.ca/wp-content/uploads/2019/05/Y-logo-rev2.jpg
END:VEVENT
BEGIN:VEVENT
DTSTART;TZID=America/Toronto:20190617T143000
DTEND;TZID=America/Toronto:20190617T160000
DTSTAMP:20260421T203148
CREATED:20190613T181745Z
LAST-MODIFIED:20190615T192454Z
UID:2687-1560781800-1560787200@welcomingottawaweek.ca
SUMMARY:Let’s celebrate our newcomer dads and match them
DESCRIPTION:This is an event to honour immigrant fathers during Father’s Day. It will also be an opportunity to launch two sponsorships between the host community and newcomer families. \nThis is an activity organized by the CESOC Community Connexion program in partnership with the Family Services Centre.
URL:https://welcomingottawaweek.ca/event/lets-celebrate-our-newcomer-dads-and-match-them-2/
LOCATION:Ottawa\, Canada
CATEGORIES:Community Engagement
ATTACH;FMTTYPE=image/jpeg:https://welcomingottawaweek.ca/wp-content/uploads/2019/06/LOGO-CESOC.jpg
END:VEVENT
BEGIN:VEVENT
DTSTART;TZID=America/Toronto:20190617T100000
DTEND;TZID=America/Toronto:20190630T120000
DTSTAMP:20260421T203148
CREATED:20190510T192413Z
LAST-MODIFIED:20190613T003919Z
UID:830-1560765600-1561896000@welcomingottawaweek.ca
SUMMARY:Videos on Newcomer Inclusion
DESCRIPTION:Video testimonials about the reception and inclusion of newcomers will be posted on CEPEO (Conseil des écoles publiques de l’Est de l’Ontario) social media. \n 
URL:https://welcomingottawaweek.ca/event/videos-on-newcomer-inclusion/2019-06-17/
LOCATION:Ottawa\, Canada
CATEGORIES:Community Engagement
ATTACH;FMTTYPE=image/png:https://welcomingottawaweek.ca/wp-content/uploads/2019/04/Logo_CEPEO-2.png
END:VEVENT
BEGIN:VEVENT
DTSTART;TZID=America/Toronto:20190617T080000
DTEND;TZID=America/Toronto:20190630T150000
DTSTAMP:20260421T203148
CREATED:20190510T193307Z
LAST-MODIFIED:20190613T003912Z
UID:825-1560758400-1561906800@welcomingottawaweek.ca
SUMMARY:"Welcome" Mural Project
DESCRIPTION:CEPEO (Les écoles du Conseil des écoles publiques de l’Est de l’Ontario) invites students to participate in the creation of a mural that demonstrates the openness\, inclusion and diversity in our board. \nDuring the month of May\, students will draw an image of how they see themselves at their school\, and then create a collaborative work of art that symbolizes the phrase “Welcome to your home” as a mural inside the school. CEPEO staff will also be invited to participate in this activity at the board’s main office. The project will be documented by videos and photos published on social media. \n 
URL:https://welcomingottawaweek.ca/event/welcome-mural-project/
LOCATION:Ottawa\, Canada
CATEGORIES:Arts & Entertainment
ATTACH;FMTTYPE=image/png:https://welcomingottawaweek.ca/wp-content/uploads/2019/04/Logo_CEPEO-2.png
END:VEVENT
BEGIN:VEVENT
DTSTART;TZID=America/Toronto:20190617T080000
DTEND;TZID=America/Toronto:20190630T080000
DTSTAMP:20260421T203148
CREATED:20190615T135130Z
LAST-MODIFIED:20190615T141122Z
UID:2972-1560758400-1561881600@welcomingottawaweek.ca
SUMMARY:Immigrants of Ottawa - Photography Project
DESCRIPTION:A photography project showcasing the different faces of immigrants who call Ottawa home. Ottawa photographer Nyamulola Kambanji will profile photos and the amazing integration stories of support\, hospitality\, genuine respect and friendship expressed by extraordinary Ottawa residents (2019 Welcoming Ottawa Ambassador recipients) towards newcomers. The profiles will be featured during WOW on the Immigrants of Ottawa Facebook page.
URL:https://welcomingottawaweek.ca/event/immigrants-of-ottawa-photography-project/
LOCATION:Ottawa\, Canada
CATEGORIES:Community Engagement
ATTACH;FMTTYPE=image/jpeg:https://welcomingottawaweek.ca/wp-content/uploads/2019/06/IOO2.001.jpeg
END:VEVENT
BEGIN:VEVENT
DTSTART;TZID=America/Toronto:20190617T073000
DTEND;TZID=America/Toronto:20190617T100000
DTSTAMP:20260421T203148
CREATED:20190611T201211Z
LAST-MODIFIED:20190615T190216Z
UID:2482-1560756600-1560765600@welcomingottawaweek.ca
SUMMARY:Mayor’s Breakfast to Launch the 2019 Welcoming Ottawa Week
DESCRIPTION:A breakfast event hosted by the Mayor of Ottawa in collaboration with the Ottawa Local Immigration Partnership (OLIP) to kick-start the 2019 Welcoming Ottawa Week activities. Highlights of the event include Mayor Watson’s presentation of the 2019 Edition of the Welcoming Ottawa Ambassador Awards prominent speakers from OLIP\, IRCC\, and CBC; and an arts and entertainment segment. This invitation only event is for OLIP partners\, WOW event hosts\, Welcoming Ambassador Award recipients\, civil society leaders\, faith leaders and business and government executives. \n 
URL:https://welcomingottawaweek.ca/event/mayors-breakfast-to-launch-the-2019-welcoming-ottawa-weeks/
LOCATION:Ottawa\, Canada
CATEGORIES:Featured events
ATTACH;FMTTYPE=image/jpeg:https://welcomingottawaweek.ca/wp-content/uploads/2019/06/Mayor’s-Breakfast-to-Launch-the-2019-Welcoming-Ottawa-Weeks.jpeg
END:VEVENT
END:VCALENDAR