BEGIN:VCALENDAR
VERSION:2.0
PRODID:-//WOW Events - ECPv6.15.20//NONSGML v1.0//EN
CALSCALE:GREGORIAN
METHOD:PUBLISH
X-WR-CALNAME:WOW Events
X-ORIGINAL-URL:https://welcomingottawaweek.ca
X-WR-CALDESC:Events for WOW Events
REFRESH-INTERVAL;VALUE=DURATION:PT1H
X-Robots-Tag:noindex
X-PUBLISHED-TTL:PT1H
BEGIN:VTIMEZONE
TZID:America/Toronto
BEGIN:DAYLIGHT
TZOFFSETFROM:-0500
TZOFFSETTO:-0400
TZNAME:EDT
DTSTART:20180311T070000
END:DAYLIGHT
BEGIN:STANDARD
TZOFFSETFROM:-0400
TZOFFSETTO:-0500
TZNAME:EST
DTSTART:20181104T060000
END:STANDARD
BEGIN:DAYLIGHT
TZOFFSETFROM:-0500
TZOFFSETTO:-0400
TZNAME:EDT
DTSTART:20190310T070000
END:DAYLIGHT
BEGIN:STANDARD
TZOFFSETFROM:-0400
TZOFFSETTO:-0500
TZNAME:EST
DTSTART:20191103T060000
END:STANDARD
BEGIN:DAYLIGHT
TZOFFSETFROM:-0500
TZOFFSETTO:-0400
TZNAME:EDT
DTSTART:20200308T070000
END:DAYLIGHT
BEGIN:STANDARD
TZOFFSETFROM:-0400
TZOFFSETTO:-0500
TZNAME:EST
DTSTART:20201101T060000
END:STANDARD
END:VTIMEZONE
BEGIN:VEVENT
DTSTART;TZID=America/Toronto:20190914T140000
DTEND;TZID=America/Toronto:20190914T153000
DTSTAMP:20260421T040635
CREATED:20190910T184957Z
LAST-MODIFIED:20190910T205534Z
UID:3710-1568469600-1568475000@welcomingottawaweek.ca
SUMMARY:Immigrant Heritage Walking Tour: Lowertown East
DESCRIPTION:Irish and French Canadian families inhabited Lowertown from the early days of Bytown (1826-)\, and by the late 1800s they were joined by Jewish residents. It is a multicultural community; a sizeable number of immigrants\, many Eastern Europeans\, came over many decades. Today there are over 40 languages represented in the extremely diverse student population at York Street Public School. (Departure Point: Le Patro\, 40 Cobourg St.) \nTour Guide Biography: Mark Farine has studied history at the University of Ottawa\, and was a guide/interpreter at Rideau Hall\, and a tour guide in Ottawa since 2013. Born in a bilingual city in New Brunswick\, he has followed the theme of cultural exchange throughout his studies\, culminating in a Masters’ thesis about the cultural interactions between Indigenous populations and Europeans in colonial Paraguay.
URL:https://welcomingottawaweek.ca/event/immigrant-heritage-walking-tour-lowertown-east-2/
LOCATION:Ottawa\, Ontario\, Canada
CATEGORIES:Guided Tours
ATTACH;FMTTYPE=image/jpeg:https://welcomingottawaweek.ca/wp-content/uploads/2019/06/Heritage-Walking-Tours-2.jpeg
END:VEVENT
BEGIN:VEVENT
DTSTART;TZID=America/Toronto:20190921T140000
DTEND;TZID=America/Toronto:20190921T160000
DTSTAMP:20260421T040635
CREATED:20190910T193544Z
LAST-MODIFIED:20190910T205435Z
UID:3717-1569074400-1569081600@welcomingottawaweek.ca
SUMMARY:Ottawa Immigrant Heritage Bus Tour
DESCRIPTION:An expert guide will highlight historic features as the bus passes through the well-known neighborhoods of downtown\, Little Italy\, Chinatown\, Sandy Hill\, Vanier\, the cemeteries of Notre-Dame and Beechwood\, Manor Park\, Lowertown West\, Gatineau’s Hull district (Museum and Portuguese neighbourhoods)\, the Portage bridge\, downtown Ottawa’s Parliamentary Precinct and the picturesque Byward Market. (Departure Point: Shaw Centre\, 55 Colonel By Drive) \nTour Guide’s Biography: David Jeanes is past president of Heritage Ottawa and a resident of Ottawa since arriving as an immigrant from England in 1957. He has been leading walking and bus tours of Ottawa for eighteen years and has special interests in railway history\, transportation\, architecture and genealogy.
URL:https://welcomingottawaweek.ca/event/ottawa-immigrant-heritage-bus-tour/
LOCATION:Ottawa\, Ontario\, Canada
CATEGORIES:Guided Tours
ATTACH;FMTTYPE=image/jpeg:https://welcomingottawaweek.ca/wp-content/uploads/2019/06/Heritage-Walking-Tours-1.jpeg
END:VEVENT
BEGIN:VEVENT
DTSTART;TZID=America/Toronto:20190928T140000
DTEND;TZID=America/Toronto:20190928T153000
DTSTAMP:20260421T040635
CREATED:20190909T134618Z
LAST-MODIFIED:20190910T211038Z
UID:3693-1569679200-1569684600@welcomingottawaweek.ca
SUMMARY:Immigrant Heritage Walking Tour: Lowertown East
DESCRIPTION:Irish and French Canadian families inhabited Lowertown from the early days of Bytown (1826-)\, and by the late 1800s they were joined by Jewish residents. It is a multicultural community; a sizeable number of immigrants\, many Eastern Europeans\, came over many decades. Today there are over 40 languages represented in the extremely diverse student population at York Street Public School. (Departure: Le Patro\, 40 Cobourg St.) \nTour Guide Biography: Mark Farine has studied history at the University of Ottawa\, and was a guide/interpreter at Rideau Hall\, and a tour guide in Ottawa since 2013. Born in a bilingual city in New Brunswick\, he has followed the theme of cultural exchange throughout his studies\, culminating in a Masters’ thesis about the cultural interactions between Indigenous populations and Europeans in colonial Paraguay.
URL:https://welcomingottawaweek.ca/event/immigrant-heritage-walking-tour-lowertown-east/
LOCATION:Ottawa\, Ontario\, Canada
CATEGORIES:Guided Tours
ATTACH;FMTTYPE=image/jpeg:https://welcomingottawaweek.ca/wp-content/uploads/2019/06/Heritage-Walking-Tours-1.jpeg
END:VEVENT
END:VCALENDAR