BEGIN:VCALENDAR
VERSION:2.0
PRODID:-//WOW Events - ECPv6.15.20//NONSGML v1.0//EN
CALSCALE:GREGORIAN
METHOD:PUBLISH
X-ORIGINAL-URL:https://welcomingottawaweek.ca
X-WR-CALDESC:Events for WOW Events
REFRESH-INTERVAL;VALUE=DURATION:PT1H
X-Robots-Tag:noindex
X-PUBLISHED-TTL:PT1H
BEGIN:VTIMEZONE
TZID:America/Toronto
BEGIN:DAYLIGHT
TZOFFSETFROM:-0500
TZOFFSETTO:-0400
TZNAME:EDT
DTSTART:20180311T070000
END:DAYLIGHT
BEGIN:STANDARD
TZOFFSETFROM:-0400
TZOFFSETTO:-0500
TZNAME:EST
DTSTART:20181104T060000
END:STANDARD
BEGIN:DAYLIGHT
TZOFFSETFROM:-0500
TZOFFSETTO:-0400
TZNAME:EDT
DTSTART:20190310T070000
END:DAYLIGHT
BEGIN:STANDARD
TZOFFSETFROM:-0400
TZOFFSETTO:-0500
TZNAME:EST
DTSTART:20191103T060000
END:STANDARD
BEGIN:DAYLIGHT
TZOFFSETFROM:-0500
TZOFFSETTO:-0400
TZNAME:EDT
DTSTART:20200308T070000
END:DAYLIGHT
BEGIN:STANDARD
TZOFFSETFROM:-0400
TZOFFSETTO:-0500
TZNAME:EST
DTSTART:20201101T060000
END:STANDARD
END:VTIMEZONE
BEGIN:VEVENT
DTSTART;TZID=America/Toronto:20191002T120000
DTEND;TZID=America/Toronto:20191002T130000
DTSTAMP:20260421T034423
CREATED:20190918T182642Z
LAST-MODIFIED:20190918T183003Z
UID:3782-1570017600-1570021200@welcomingottawaweek.ca
SUMMARY:Digital Transformation for Settlement Agencies (Webinar)
DESCRIPTION:WHO: Anyone especially those who work in the settlement services sector\nWHAT: Enabling service transformation through digital transformation \nIf you are working or volunteering in the settlement services sector and would like to learn more about why digital transformation is very critical for transforming settlement services\, please register HERE.
URL:https://welcomingottawaweek.ca/event/digital-transformation-for-settlement-agencies-webinar/
LOCATION:Ottawa\, Ontario\, Canada
ATTACH;FMTTYPE=image/jpeg:https://welcomingottawaweek.ca/wp-content/uploads/2019/09/IVORG.jpg
END:VEVENT
END:VCALENDAR