BEGIN:VCALENDAR
VERSION:2.0
PRODID:-//WOW Events - ECPv6.15.20//NONSGML v1.0//EN
CALSCALE:GREGORIAN
METHOD:PUBLISH
X-WR-CALNAME:WOW Events
X-ORIGINAL-URL:https://welcomingottawaweek.ca/fr/
X-WR-CALDESC:Évènements pour WOW Events
REFRESH-INTERVAL;VALUE=DURATION:PT1H
X-Robots-Tag:noindex
X-PUBLISHED-TTL:PT1H
BEGIN:VTIMEZONE
TZID:America/Toronto
BEGIN:DAYLIGHT
TZOFFSETFROM:-0500
TZOFFSETTO:-0400
TZNAME:EDT
DTSTART:20180311T070000
END:DAYLIGHT
BEGIN:STANDARD
TZOFFSETFROM:-0400
TZOFFSETTO:-0500
TZNAME:EST
DTSTART:20181104T060000
END:STANDARD
BEGIN:DAYLIGHT
TZOFFSETFROM:-0500
TZOFFSETTO:-0400
TZNAME:EDT
DTSTART:20190310T070000
END:DAYLIGHT
BEGIN:STANDARD
TZOFFSETFROM:-0400
TZOFFSETTO:-0500
TZNAME:EST
DTSTART:20191103T060000
END:STANDARD
BEGIN:DAYLIGHT
TZOFFSETFROM:-0500
TZOFFSETTO:-0400
TZNAME:EDT
DTSTART:20200308T070000
END:DAYLIGHT
BEGIN:STANDARD
TZOFFSETFROM:-0400
TZOFFSETTO:-0500
TZNAME:EST
DTSTART:20201101T060000
END:STANDARD
END:VTIMEZONE
BEGIN:VEVENT
DTSTART;TZID=America/Toronto:20190627T090000
DTEND;TZID=America/Toronto:20190627T120000
DTSTAMP:20260421T093401
CREATED:20190527T210021Z
LAST-MODIFIED:20190527T210021Z
UID:1519-1561626000-1561636800@welcomingottawaweek.ca
SUMMARY:Bienvenue en Ontario
DESCRIPTION:Un atelier qui portera sur: \n\nÉtablissement en Ontario\nOpportunités professionnelles\nNormes d’emploi\nBénévolat\nCompétences linguistiques\n(Survol) professions réglementées\nRetour aux études\nReconversion professionnelle\nCV au format canadien\nTechniques de recherche d’emploi
URL:https://welcomingottawaweek.ca/fr/event/bienvenue-en-ontario/
LOCATION:Ottawa\, Ontario\, Canada
ATTACH;FMTTYPE=image/jpeg:https://welcomingottawaweek.ca/wp-content/uploads/2019/05/logo-SEO.jpg
ORGANIZER;CN="SEO":MAILTO:info.ei@seo-ont.ca
END:VEVENT
END:VCALENDAR