BEGIN:VCALENDAR
VERSION:2.0
PRODID:-//WOW Events - ECPv6.15.20//NONSGML v1.0//EN
CALSCALE:GREGORIAN
METHOD:PUBLISH
X-WR-CALNAME:WOW Events
X-ORIGINAL-URL:https://welcomingottawaweek.ca/fr/
X-WR-CALDESC:Évènements pour WOW Events
REFRESH-INTERVAL;VALUE=DURATION:PT1H
X-Robots-Tag:noindex
X-PUBLISHED-TTL:PT1H
BEGIN:VTIMEZONE
TZID:America/Toronto
BEGIN:DAYLIGHT
TZOFFSETFROM:-0500
TZOFFSETTO:-0400
TZNAME:EDT
DTSTART:20180311T070000
END:DAYLIGHT
BEGIN:STANDARD
TZOFFSETFROM:-0400
TZOFFSETTO:-0500
TZNAME:EST
DTSTART:20181104T060000
END:STANDARD
BEGIN:DAYLIGHT
TZOFFSETFROM:-0500
TZOFFSETTO:-0400
TZNAME:EDT
DTSTART:20190310T070000
END:DAYLIGHT
BEGIN:STANDARD
TZOFFSETFROM:-0400
TZOFFSETTO:-0500
TZNAME:EST
DTSTART:20191103T060000
END:STANDARD
BEGIN:DAYLIGHT
TZOFFSETFROM:-0500
TZOFFSETTO:-0400
TZNAME:EDT
DTSTART:20200308T070000
END:DAYLIGHT
BEGIN:STANDARD
TZOFFSETFROM:-0400
TZOFFSETTO:-0500
TZNAME:EST
DTSTART:20201101T060000
END:STANDARD
END:VTIMEZONE
BEGIN:VEVENT
DTSTART;TZID=America/Toronto:20190929T140000
DTEND;TZID=America/Toronto:20190929T153000
DTSTAMP:20260421T140303
CREATED:20190910T163640Z
LAST-MODIFIED:20190910T163640Z
UID:3704-1569765600-1569771000@welcomingottawaweek.ca
SUMMARY:Tournée pédestre du patrimoine immigrant : Marché By
DESCRIPTION:Établi en 1826\, le marché By est un des plus vieux et un des plus grands marchés publics au Canada. Il abrite un marché fermier local et de nombreux stands d’artisanat ainsi que plus de 600 commerces. Les vendeurs et marchands canadiens-français et juifs ont représenté deux des cultures dominantes pendant de nombreuses décennies. Des hôtels\, des tavernes et des pensions se sont aussi installés dans les rues autour du marché. Aujourd’hui de nombreux restaurants et magasins appartenant à des immigrants se trouvent dans le quartier. \nBiographie Du Guide : Diego Elizondo : Diego Elizondo est diplomé en histoire et en science politique de l’Université d’Ottawa. Il porte un intérêt spécial pour le patrimoine et pour l’architecture. Il a dirigé des visites guidées d’Orléans\, de Vanier et du marché By.
URL:https://welcomingottawaweek.ca/fr/event/tournee-pedestre-du-patrimoine-immigrant-marche-by/
LOCATION:98 George Street\, Giant Tiger\, Ottawa\, Ontario\, Canada
ATTACH;FMTTYPE=image/jpeg:https://welcomingottawaweek.ca/wp-content/uploads/2019/06/Heritage-Walking-Tours-1.jpeg
END:VEVENT
END:VCALENDAR