BEGIN:VCALENDAR
VERSION:2.0
PRODID:-//WOW Events - ECPv6.15.20//NONSGML v1.0//EN
CALSCALE:GREGORIAN
METHOD:PUBLISH
X-WR-CALNAME:WOW Events
X-ORIGINAL-URL:https://welcomingottawaweek.ca
X-WR-CALDESC:Events for WOW Events
REFRESH-INTERVAL;VALUE=DURATION:PT1H
X-Robots-Tag:noindex
X-PUBLISHED-TTL:PT1H
BEGIN:VTIMEZONE
TZID:America/Toronto
BEGIN:DAYLIGHT
TZOFFSETFROM:-0500
TZOFFSETTO:-0400
TZNAME:EDT
DTSTART:20240310T070000
END:DAYLIGHT
BEGIN:STANDARD
TZOFFSETFROM:-0400
TZOFFSETTO:-0500
TZNAME:EST
DTSTART:20241103T060000
END:STANDARD
BEGIN:DAYLIGHT
TZOFFSETFROM:-0500
TZOFFSETTO:-0400
TZNAME:EDT
DTSTART:20250309T070000
END:DAYLIGHT
BEGIN:STANDARD
TZOFFSETFROM:-0400
TZOFFSETTO:-0500
TZNAME:EST
DTSTART:20251102T060000
END:STANDARD
BEGIN:DAYLIGHT
TZOFFSETFROM:-0500
TZOFFSETTO:-0400
TZNAME:EDT
DTSTART:20260308T070000
END:DAYLIGHT
BEGIN:STANDARD
TZOFFSETFROM:-0400
TZOFFSETTO:-0500
TZNAME:EST
DTSTART:20261101T060000
END:STANDARD
END:VTIMEZONE
BEGIN:VEVENT
DTSTART;TZID=America/Toronto:20250627T183000
DTEND;TZID=America/Toronto:20250627T200000
DTSTAMP:20260424T104332
CREATED:20250608T144928Z
LAST-MODIFIED:20250627T214835Z
UID:8166-1751049000-1751054400@welcomingottawaweek.ca
SUMMARY:Walking Tour of Chinatown
DESCRIPTION:THIS EVENT HAS BEEN CANCELED DUE TO RAIN! \nJoin us for a guided tour of Chinatown to learn about the contribution of immigrant communities to the neighbourhood\, along with its history\, people and vibrant culture. Learn about the multicultural village this neighbourhood has become\, including not only Asian cultures\, but also influences from French Canada\, the Middle East\, Latin America and more. \nLanguage: English
URL:https://welcomingottawaweek.ca/event/walking-tour-of-chinatown/
LOCATION:Plant Recreation Centre\, 930 Somerset Street West\, Ottawa\, ON\, K1R 6R9
CATEGORIES:Guided Tours
ATTACH;FMTTYPE=image/jpeg:https://welcomingottawaweek.ca/wp-content/uploads/2025/06/OLIP-Logo-RGB-678x272-1.jpg
ORGANIZER;CN="Ottawa Local Immigration Partnership (OLIP)":MAILTO:jean-pierre@olip-plio.ca
END:VEVENT
BEGIN:VEVENT
DTSTART;TZID=America/Toronto:20250621T183000
DTEND;TZID=America/Toronto:20250621T200000
DTSTAMP:20260424T104332
CREATED:20250608T155741Z
LAST-MODIFIED:20250609T175634Z
UID:8170-1750530600-1750536000@welcomingottawaweek.ca
SUMMARY:Walking Tour of Little Italy
DESCRIPTION:Join us for a guided tour of Little Italy to learn about the contribution of immigrant communities to the neighbourhood\, along with its history\, people and vibrant culture. Participants take a leisurely stroll down Preston Street\, hearing about the Italian community and other immigrants who settled in the area. They learn about important institutions like St. Anthony’s Soccer Club and visit many landmarks. \nLanguage: English
URL:https://welcomingottawaweek.ca/event/walking-tour-of-little-italy/
LOCATION:Plant Recreation Centre\, 930 Somerset Street West\, Ottawa\, ON\, K1R 6R9
CATEGORIES:Guided Tours
ATTACH;FMTTYPE=image/jpeg:https://welcomingottawaweek.ca/wp-content/uploads/2025/06/OLIP-Logo-RGB-678x272-1.jpg
ORGANIZER;CN="Ottawa Local Immigration Partnership (OLIP)":MAILTO:jean-pierre@olip-plio.ca
END:VEVENT
END:VCALENDAR