BEGIN:VCALENDAR
VERSION:2.0
PRODID:-//WOW Events - ECPv6.15.20//NONSGML v1.0//EN
CALSCALE:GREGORIAN
METHOD:PUBLISH
X-ORIGINAL-URL:https://welcomingottawaweek.ca
X-WR-CALDESC:Events for WOW Events
REFRESH-INTERVAL;VALUE=DURATION:PT1H
X-Robots-Tag:noindex
X-PUBLISHED-TTL:PT1H
BEGIN:VTIMEZONE
TZID:America/Toronto
BEGIN:DAYLIGHT
TZOFFSETFROM:-0500
TZOFFSETTO:-0400
TZNAME:EDT
DTSTART:20230312T070000
END:DAYLIGHT
BEGIN:STANDARD
TZOFFSETFROM:-0400
TZOFFSETTO:-0500
TZNAME:EST
DTSTART:20231105T060000
END:STANDARD
BEGIN:DAYLIGHT
TZOFFSETFROM:-0500
TZOFFSETTO:-0400
TZNAME:EDT
DTSTART:20240310T070000
END:DAYLIGHT
BEGIN:STANDARD
TZOFFSETFROM:-0400
TZOFFSETTO:-0500
TZNAME:EST
DTSTART:20241103T060000
END:STANDARD
BEGIN:DAYLIGHT
TZOFFSETFROM:-0500
TZOFFSETTO:-0400
TZNAME:EDT
DTSTART:20250309T070000
END:DAYLIGHT
BEGIN:STANDARD
TZOFFSETFROM:-0400
TZOFFSETTO:-0500
TZNAME:EST
DTSTART:20251102T060000
END:STANDARD
END:VTIMEZONE
BEGIN:VEVENT
DTSTART;TZID=America/Toronto:20240622T100000
DTEND;TZID=America/Toronto:20240622T100000
DTSTAMP:20260421T040022
CREATED:20240607T210719Z
LAST-MODIFIED:20240607T210719Z
UID:7030-1719050400-1719050400@welcomingottawaweek.ca
SUMMARY:Harmony in Diversity: Celebrating Ottawa's Cultural Mosaic
DESCRIPTION:“Harmony in Diversity: Celebrating Ottawa’s Cultural Mosaic” is a vibrant and engaging event designed to showcase the rich cultural diversity of Ottawa. This celebration forms part of the Welcoming Ottawa Week (WOW)\, aimed at integrating newcomers and celebrating the shared values and diversity of long-time residents and immigrants alike. \nEvent Highlights: \n\nCultural Exhibitions: Booths from various community groups and cultural associations will display artifacts\, traditional clothing\, and crafts\, offering insights into their cultural heritage and contemporary expressions.\nPerformances: A main stage will feature performances from local and immigrant artists\, including music\, dance\, and drama\, representing the myriad cultures that make up Ottawa’s social fabric.\nFood Pavilion: Culinary delights from around the world will be available\, giving attendees the chance to savor authentic tastes ranging from Middle Eastern delicacies to South American treats\, all prepared by local immigrant chefs.\nInteractive Workshops: These workshops will invite participation in cultural crafts\, music\, dance\, and other artistic expressions\, providing hands-on experiences for all ages.\nPanel Discussions: Featuring a mix of newcomers and established residents\, these discussions will delve into topics like integration\, cultural exchange\, and the benefits of a diverse society.\nKids’ Corner: Children’s activities will be culturally themed\, educational\, and fun\, ensuring that the youngest attendees can enjoy and learn from the event as well.
URL:https://welcomingottawaweek.ca/event/harmony-in-diversity-celebrating-ottawas-cultural-mosaic/
CATEGORIES:Arts & Entertainment,Community Engagement,Food-related Events,Learning Events
ATTACH;FMTTYPE=image/png:https://welcomingottawaweek.ca/wp-content/uploads/2024/06/Pand-Settlement-Services-Logo.png
ORGANIZER;CN="Les Services d'%C3%A9tablissement PAND":MAILTO:kshakouri@pandsettlement.ca
END:VEVENT
END:VCALENDAR