BEGIN:VCALENDAR
VERSION:2.0
PRODID:-//WOW Events - ECPv6.15.20//NONSGML v1.0//EN
CALSCALE:GREGORIAN
METHOD:PUBLISH
X-WR-CALNAME:WOW Events
X-ORIGINAL-URL:https://welcomingottawaweek.ca
X-WR-CALDESC:Events for WOW Events
REFRESH-INTERVAL;VALUE=DURATION:PT1H
X-Robots-Tag:noindex
X-PUBLISHED-TTL:PT1H
BEGIN:VTIMEZONE
TZID:America/Toronto
BEGIN:DAYLIGHT
TZOFFSETFROM:-0500
TZOFFSETTO:-0400
TZNAME:EDT
DTSTART:20220313T070000
END:DAYLIGHT
BEGIN:STANDARD
TZOFFSETFROM:-0400
TZOFFSETTO:-0500
TZNAME:EST
DTSTART:20221106T060000
END:STANDARD
BEGIN:DAYLIGHT
TZOFFSETFROM:-0500
TZOFFSETTO:-0400
TZNAME:EDT
DTSTART:20230312T070000
END:DAYLIGHT
BEGIN:STANDARD
TZOFFSETFROM:-0400
TZOFFSETTO:-0500
TZNAME:EST
DTSTART:20231105T060000
END:STANDARD
BEGIN:DAYLIGHT
TZOFFSETFROM:-0500
TZOFFSETTO:-0400
TZNAME:EDT
DTSTART:20240310T070000
END:DAYLIGHT
BEGIN:STANDARD
TZOFFSETFROM:-0400
TZOFFSETTO:-0500
TZNAME:EST
DTSTART:20241103T060000
END:STANDARD
END:VTIMEZONE
BEGIN:VEVENT
DTSTART;TZID=America/Toronto:20230628T170000
DTEND;TZID=America/Toronto:20230628T200000
DTSTAMP:20260419T175616
CREATED:20230611T225829Z
LAST-MODIFIED:20230623T194345Z
UID:5712-1687971600-1687982400@welcomingottawaweek.ca
SUMMARY:Game Party
DESCRIPTION:Create bonds between people and promote multiculturalism by playing traditional board games together. \nLanguage: English\, French\, Haitian\, Créole
URL:https://welcomingottawaweek.ca/event/game-party/
LOCATION:290 Dupuis St.\, Ottawa
CATEGORIES:Arts & Entertainment,Community Engagement
ATTACH;FMTTYPE=image/png:https://welcomingottawaweek.ca/wp-content/uploads/2023/06/CSHO.png
ORGANIZER;CN="CISHO":MAILTO:cishocanada@gmail.com
END:VEVENT
BEGIN:VEVENT
DTSTART;TZID=America/Toronto:20230622T180000
DTEND;TZID=America/Toronto:20230622T180000
DTSTAMP:20260419T175616
CREATED:20230613T153315Z
LAST-MODIFIED:20230613T153315Z
UID:5989-1687456800-1687456800@welcomingottawaweek.ca
SUMMARY:Community Bike Ride + Discover Franco-Ontarian History in Vanier!
DESCRIPTION:This activity will bring new Vanier residents to discover their community and learn more about Vélo-Vanier\, a free bicycle lending and reparation program hosted at the Vanier Community Services Centre. \n*For Vanier residents only. If you wish to borrow a bike for this activity\, you can arrive at 5 pm. \nLanguage: Bilingual
URL:https://welcomingottawaweek.ca/event/community-bike-ride-discover-franco-ontarian-history-in-vanier/
LOCATION:290 Dupuis St.\, Ottawa
CATEGORIES:Guided Tours,Learning Events
ATTACH;FMTTYPE=image/png:https://welcomingottawaweek.ca/wp-content/uploads/2023/06/logo-csc-vanier-full.png
ORGANIZER;CN="V%C3%A9lo-Vanier (Centre des services communautaires Vanier / Vanier Community Services Centre)":MAILTO:velovanier@cscvanier.com
END:VEVENT
END:VCALENDAR