BEGIN:VCALENDAR
VERSION:2.0
PRODID:-//WOW Events - ECPv6.15.20//NONSGML v1.0//EN
CALSCALE:GREGORIAN
METHOD:PUBLISH
X-WR-CALNAME:WOW Events
X-ORIGINAL-URL:https://welcomingottawaweek.ca
X-WR-CALDESC:Events for WOW Events
REFRESH-INTERVAL;VALUE=DURATION:PT1H
X-Robots-Tag:noindex
X-PUBLISHED-TTL:PT1H
BEGIN:VTIMEZONE
TZID:America/Toronto
BEGIN:DAYLIGHT
TZOFFSETFROM:-0500
TZOFFSETTO:-0400
TZNAME:EDT
DTSTART:20240310T070000
END:DAYLIGHT
BEGIN:STANDARD
TZOFFSETFROM:-0400
TZOFFSETTO:-0500
TZNAME:EST
DTSTART:20241103T060000
END:STANDARD
BEGIN:DAYLIGHT
TZOFFSETFROM:-0500
TZOFFSETTO:-0400
TZNAME:EDT
DTSTART:20250309T070000
END:DAYLIGHT
BEGIN:STANDARD
TZOFFSETFROM:-0400
TZOFFSETTO:-0500
TZNAME:EST
DTSTART:20251102T060000
END:STANDARD
BEGIN:DAYLIGHT
TZOFFSETFROM:-0500
TZOFFSETTO:-0400
TZNAME:EDT
DTSTART:20260308T070000
END:DAYLIGHT
BEGIN:STANDARD
TZOFFSETFROM:-0400
TZOFFSETTO:-0500
TZNAME:EST
DTSTART:20261101T060000
END:STANDARD
END:VTIMEZONE
BEGIN:VEVENT
DTSTART;TZID=America/Toronto:20250627T160000
DTEND;TZID=America/Toronto:20250627T190000
DTSTAMP:20260424T092840
CREATED:20250608T213503Z
LAST-MODIFIED:20250608T213503Z
UID:8225-1751040000-1751050800@welcomingottawaweek.ca
SUMMARY:WOW Summer Festival
DESCRIPTION:In partnership with the Albion-Heatherington Recreation Centre and South-East Ottawa Community Health Centre\, Ottawa Public Health will be hosting a WOW Summer Kick-Off Festival Event on June 27\, 2025\, from 4:00 PM–7:00 PM\, and we’d love for you to join us!\nThis event is part of Welcoming Ottawa Week (WOW)\, a citywide initiative by OLIP that celebrates diversity and connects newcomers with community resources. It also marks the start of summer for most students—making it the perfect time to engage youth and families.\nJoin us for some entertainment\, resources\, and a halal-BBQ! \nLanguage: English
URL:https://welcomingottawaweek.ca/event/wow-summer-festival/
LOCATION:Albion-Heatherington Recreation Centre\, 1560 Heatherington Rd\, Ottawa\, K1V 9P5
CATEGORIES:Arts & Entertainment,Community Engagement,Food-related Events,Learning Events
ATTACH;FMTTYPE=image/png:https://welcomingottawaweek.ca/wp-content/uploads/2025/06/WOW-Summer-Festival-June-27-scaled.png
ORGANIZER;CN="Ottawa Public Health":MAILTO:mentalhealthteam@ottawa.ca
END:VEVENT
END:VCALENDAR