BEGIN:VCALENDAR
VERSION:2.0
PRODID:-//WOW Events - ECPv6.15.20//NONSGML v1.0//EN
CALSCALE:GREGORIAN
METHOD:PUBLISH
X-ORIGINAL-URL:https://welcomingottawaweek.ca
X-WR-CALDESC:Events for WOW Events
REFRESH-INTERVAL;VALUE=DURATION:PT1H
X-Robots-Tag:noindex
X-PUBLISHED-TTL:PT1H
BEGIN:VTIMEZONE
TZID:America/Toronto
BEGIN:DAYLIGHT
TZOFFSETFROM:-0500
TZOFFSETTO:-0400
TZNAME:EDT
DTSTART:20220313T070000
END:DAYLIGHT
BEGIN:STANDARD
TZOFFSETFROM:-0400
TZOFFSETTO:-0500
TZNAME:EST
DTSTART:20221106T060000
END:STANDARD
BEGIN:DAYLIGHT
TZOFFSETFROM:-0500
TZOFFSETTO:-0400
TZNAME:EDT
DTSTART:20230312T070000
END:DAYLIGHT
BEGIN:STANDARD
TZOFFSETFROM:-0400
TZOFFSETTO:-0500
TZNAME:EST
DTSTART:20231105T060000
END:STANDARD
BEGIN:DAYLIGHT
TZOFFSETFROM:-0500
TZOFFSETTO:-0400
TZNAME:EDT
DTSTART:20240310T070000
END:DAYLIGHT
BEGIN:STANDARD
TZOFFSETFROM:-0400
TZOFFSETTO:-0500
TZNAME:EST
DTSTART:20241103T060000
END:STANDARD
END:VTIMEZONE
BEGIN:VEVENT
DTSTART;TZID=America/Toronto:20230628T170000
DTEND;TZID=America/Toronto:20230628T170000
DTSTAMP:20260421T122014
CREATED:20230612T032623Z
LAST-MODIFIED:20230612T032623Z
UID:5874-1687971600-1687971600@welcomingottawaweek.ca
SUMMARY:Tapas & Toque: A Night in Spain
DESCRIPTION:Experience Spain’s vibrant flavours and passionate rhythms at Bored n’ Saucy in Pembroke! Join us for a spectacular Spanish-themed buffet meal accompanied by live flamenco guitar music performed by the talented Navid Miraftab. \nBuffet: 5-9 pm ($20+HST)\nChicken Paella\nTortilla EspaÃ±ola\nBocadillo de lomo\nBocadillo Serranito\nSpanish Sponge Cake \nLive Music: 6-9 pm \nReserve your spot at this unforgettable event and join us at Bored n’Saucy in Pembroke. Let Spain’s flavours\, sounds\, and ambiance envelop you for a memorable night that will leave you with lasting memories. ¡Viva España! \n  \nLanguage: English
URL:https://welcomingottawaweek.ca/event/tapas-toque-a-night-in-spain/
LOCATION:Bored n’ Saucy Restaurant\, Pembroke
CATEGORIES:Food-related Events,Sharing Cultural Activities
ATTACH;FMTTYPE=image/jpeg:https://welcomingottawaweek.ca/wp-content/uploads/2023/06/tapas-Toque.jpg
ORGANIZER;CN="Culture Connect":MAILTO:localimmigrationpartnership@algonquincollege.com
END:VEVENT
END:VCALENDAR