BEGIN:VCALENDAR
VERSION:2.0
PRODID:-//WOW Events - ECPv6.15.20//NONSGML v1.0//EN
CALSCALE:GREGORIAN
METHOD:PUBLISH
X-WR-CALNAME:WOW Events
X-ORIGINAL-URL:https://welcomingottawaweek.ca
X-WR-CALDESC:Events for WOW Events
REFRESH-INTERVAL;VALUE=DURATION:PT1H
X-Robots-Tag:noindex
X-PUBLISHED-TTL:PT1H
BEGIN:VTIMEZONE
TZID:America/Toronto
BEGIN:DAYLIGHT
TZOFFSETFROM:-0500
TZOFFSETTO:-0400
TZNAME:EDT
DTSTART:20180311T070000
END:DAYLIGHT
BEGIN:STANDARD
TZOFFSETFROM:-0400
TZOFFSETTO:-0500
TZNAME:EST
DTSTART:20181104T060000
END:STANDARD
BEGIN:DAYLIGHT
TZOFFSETFROM:-0500
TZOFFSETTO:-0400
TZNAME:EDT
DTSTART:20190310T070000
END:DAYLIGHT
BEGIN:STANDARD
TZOFFSETFROM:-0400
TZOFFSETTO:-0500
TZNAME:EST
DTSTART:20191103T060000
END:STANDARD
BEGIN:DAYLIGHT
TZOFFSETFROM:-0500
TZOFFSETTO:-0400
TZNAME:EDT
DTSTART:20200308T070000
END:DAYLIGHT
BEGIN:STANDARD
TZOFFSETFROM:-0400
TZOFFSETTO:-0500
TZNAME:EST
DTSTART:20201101T060000
END:STANDARD
END:VTIMEZONE
BEGIN:VEVENT
DTSTART;TZID=America/Toronto:20190630T130000
DTEND;TZID=America/Toronto:20190630T143000
DTSTAMP:20260420T201253
CREATED:20190529T193607Z
LAST-MODIFIED:20190624T153621Z
UID:2029-1561899600-1561905000@welcomingottawaweek.ca
SUMMARY:Immigrant Heritage Walking Tour: Vanier (in English)
DESCRIPTION:The Vanier area settlement began in the 19th century and grew in 1908\, from the small communities of Janeville\, Clarkstown and Clandeboye\, to become Eastview. It was in 1969 that the area took the name Vanier. The francophone population was dominant for many decades of the 20th century\, but today there are now many sizeable newcomer populations. Beginning in the 1980s and 1990s\, the area began attracting Inuit\, African\, Afro-Caribbean and Middle Eastern communities. \nDiego Elizondo serves as the French- and English-language tour guide for Vanier. He is a history and political science graduate at the University of Ottawa. He has conducted several walking tours of Orléans. \nPlease feel free to register for the Immigrant Heritage Walking Tours 2019 HERE. \n  \n  \n  \n 
URL:https://welcomingottawaweek.ca/event/immigrant-heritage-walking-tour-vanier/
LOCATION:Jean Coutu\, 262 Montreal Rd.\, Ottawa\, Ontario\, Canada
CATEGORIES:Guided Tours
ATTACH;FMTTYPE=image/jpeg:https://welcomingottawaweek.ca/wp-content/uploads/2019/06/Heritage-Walking-Tours.jpeg
END:VEVENT
END:VCALENDAR