BEGIN:VCALENDAR
VERSION:2.0
PRODID:-//WOW Events - ECPv6.15.20//NONSGML v1.0//EN
CALSCALE:GREGORIAN
METHOD:PUBLISH
X-ORIGINAL-URL:https://welcomingottawaweek.ca
X-WR-CALDESC:Events for WOW Events
REFRESH-INTERVAL;VALUE=DURATION:PT1H
X-Robots-Tag:noindex
X-PUBLISHED-TTL:PT1H
BEGIN:VTIMEZONE
TZID:America/Toronto
BEGIN:DAYLIGHT
TZOFFSETFROM:-0500
TZOFFSETTO:-0400
TZNAME:EDT
DTSTART:20220313T070000
END:DAYLIGHT
BEGIN:STANDARD
TZOFFSETFROM:-0400
TZOFFSETTO:-0500
TZNAME:EST
DTSTART:20221106T060000
END:STANDARD
BEGIN:DAYLIGHT
TZOFFSETFROM:-0500
TZOFFSETTO:-0400
TZNAME:EDT
DTSTART:20230312T070000
END:DAYLIGHT
BEGIN:STANDARD
TZOFFSETFROM:-0400
TZOFFSETTO:-0500
TZNAME:EST
DTSTART:20231105T060000
END:STANDARD
BEGIN:DAYLIGHT
TZOFFSETFROM:-0500
TZOFFSETTO:-0400
TZNAME:EDT
DTSTART:20240310T070000
END:DAYLIGHT
BEGIN:STANDARD
TZOFFSETFROM:-0400
TZOFFSETTO:-0500
TZNAME:EST
DTSTART:20241103T060000
END:STANDARD
END:VTIMEZONE
BEGIN:VEVENT
DTSTART;TZID=America/Toronto:20230624T120000
DTEND;TZID=America/Toronto:20230624T120000
DTSTAMP:20260421T084559
CREATED:20230611T203911Z
LAST-MODIFIED:20230611T203911Z
UID:5706-1687608000-1687608000@welcomingottawaweek.ca
SUMMARY:Summer Solstice Indigenous Festival
DESCRIPTION:Summer Solstice Indigenous Festival is a multi-disciplinary arts festival that brings together Indigenous artists\, performers\, educators\, students\, and community members to share knowledge and celebrate Canada’s diverse Indigenous cultures. \nSummer Solstice Indigenous Festival (SSIF) takes place during National Indigenous History Month and coincides with National Indigenous Peoples Day (NIPD). \nFor over twenty years\, NIPD/ Summer Solstice events in the National Capital Region have created opportunities for all Canadians to recognize and celebrate the culture and contributions of Inuit\, First Nations and Métis peoples.
URL:https://welcomingottawaweek.ca/event/summer-solstice-indigenous-festival-2/
LOCATION:Mādahòkì Farm\, 4420 W Hunt Club Road\, Ottawa
CATEGORIES:Arts & Entertainment,Community Engagement,Food-related Events,Sharing Cultural Activities
ATTACH;FMTTYPE=image/png:https://welcomingottawaweek.ca/wp-content/uploads/2023/06/Summer-Solstice-Indigneous-Festival-logo.png
ORGANIZER;CN="Summer Solstice Indigenous Festival":MAILTO:info@ottawasummersolstice.ca
END:VEVENT
END:VCALENDAR