BEGIN:VCALENDAR
VERSION:2.0
PRODID:-//WOW Events - ECPv6.15.20//NONSGML v1.0//EN
CALSCALE:GREGORIAN
METHOD:PUBLISH
X-WR-CALNAME:WOW Events
X-ORIGINAL-URL:https://welcomingottawaweek.ca
X-WR-CALDESC:Events for WOW Events
REFRESH-INTERVAL;VALUE=DURATION:PT1H
X-Robots-Tag:noindex
X-PUBLISHED-TTL:PT1H
BEGIN:VTIMEZONE
TZID:America/Toronto
BEGIN:DAYLIGHT
TZOFFSETFROM:-0500
TZOFFSETTO:-0400
TZNAME:EDT
DTSTART:20240310T070000
END:DAYLIGHT
BEGIN:STANDARD
TZOFFSETFROM:-0400
TZOFFSETTO:-0500
TZNAME:EST
DTSTART:20241103T060000
END:STANDARD
BEGIN:DAYLIGHT
TZOFFSETFROM:-0500
TZOFFSETTO:-0400
TZNAME:EDT
DTSTART:20250309T070000
END:DAYLIGHT
BEGIN:STANDARD
TZOFFSETFROM:-0400
TZOFFSETTO:-0500
TZNAME:EST
DTSTART:20251102T060000
END:STANDARD
BEGIN:DAYLIGHT
TZOFFSETFROM:-0500
TZOFFSETTO:-0400
TZNAME:EDT
DTSTART:20260308T070000
END:DAYLIGHT
BEGIN:STANDARD
TZOFFSETFROM:-0400
TZOFFSETTO:-0500
TZNAME:EST
DTSTART:20261101T060000
END:STANDARD
END:VTIMEZONE
BEGIN:VEVENT
DTSTART;TZID=America/Toronto:20250627T140000
DTEND;TZID=America/Toronto:20250627T140000
DTSTAMP:20260424T080927
CREATED:20250608T184044Z
LAST-MODIFIED:20250618T141234Z
UID:8199-1751032800-1751032800@welcomingottawaweek.ca
SUMMARY:Centretown Social Services Fair
DESCRIPTION:Come out to the McNabb Park for the Centretown Social Services Fair to learn about services offered in Centretown\, a great opportunity to get resources\, and meet neighbours and organizations! \nLanguage: Bilingual
URL:https://welcomingottawaweek.ca/event/centretown-social-services-fair/
LOCATION:McNabb Park\, 435 Bronson Ave
CATEGORIES:Community Engagement,Learning Events
ATTACH;FMTTYPE=image/png:https://welcomingottawaweek.ca/wp-content/uploads/2025/06/Centretown-Service-Fair-posters-2025-EN-scaled.png
ORGANIZER;CN="Centretown Community Health Centre":MAILTO:ali@centretownchc.org
END:VEVENT
END:VCALENDAR